BEGIN:VCALENDAR
VERSION:2.0
PRODID:-//LIS Calendar - ECPv6.15.11//NONSGML v1.0//EN
CALSCALE:GREGORIAN
METHOD:PUBLISH
X-ORIGINAL-URL:https://www.lis.ac.in/calendar_new
X-WR-CALDESC:Events for LIS Calendar
REFRESH-INTERVAL;VALUE=DURATION:PT1H
X-Robots-Tag:noindex
X-PUBLISHED-TTL:PT1H
BEGIN:VTIMEZONE
TZID:Asia/Kolkata
BEGIN:STANDARD
TZOFFSETFROM:+0530
TZOFFSETTO:+0530
TZNAME:IST
DTSTART:20240101T000000
END:STANDARD
END:VTIMEZONE
BEGIN:VEVENT
DTSTART;VALUE=DATE:20250303
DTEND;VALUE=DATE:20250304
DTSTAMP:20260425T033933
CREATED:20240618T095853Z
LAST-MODIFIED:20240618T095853Z
UID:1009-1740960000-1741046399@www.lis.ac.in
SUMMARY:Mock Examination begins
DESCRIPTION:
URL:https://www.lis.ac.in/calendar_new/event/mock-examination-begins/
CATEGORIES:Admin,Student,Teacher
END:VEVENT
BEGIN:VEVENT
DTSTART;VALUE=DATE:20250303
DTEND;VALUE=DATE:20250305
DTSTAMP:20260425T033933
CREATED:20240618T095957Z
LAST-MODIFIED:20240618T095957Z
UID:1012-1740960000-1741132799@www.lis.ac.in
SUMMARY:Arts Week
DESCRIPTION:
URL:https://www.lis.ac.in/calendar_new/event/arts-week/
CATEGORIES:Admin,Student,Teacher
END:VEVENT
BEGIN:VEVENT
DTSTART;VALUE=DATE:20250303
DTEND;VALUE=DATE:20250305
DTSTAMP:20260425T033933
CREATED:20250305T050449Z
LAST-MODIFIED:20250305T050449Z
UID:1316-1740960000-1741132799@www.lis.ac.in
SUMMARY:Literary Fest Inter-School Competition
DESCRIPTION:
URL:https://www.lis.ac.in/calendar_new/event/literary-fest-inter-school-competition/
CATEGORIES:Admin,Student,Teacher
END:VEVENT
BEGIN:VEVENT
DTSTART;VALUE=DATE:20250305
DTEND;VALUE=DATE:20250306
DTSTAMP:20260425T033933
CREATED:20250305T051450Z
LAST-MODIFIED:20250305T051450Z
UID:1318-1741132800-1741219199@www.lis.ac.in
SUMMARY:Korean Festival
DESCRIPTION:
URL:https://www.lis.ac.in/calendar_new/event/korean-festival/
CATEGORIES:Admin,Student,Teacher
END:VEVENT
BEGIN:VEVENT
DTSTART;VALUE=DATE:20250306
DTEND;VALUE=DATE:20250307
DTSTAMP:20260425T033933
CREATED:20250120T102657Z
LAST-MODIFIED:20250120T102657Z
UID:1243-1741219200-1741305599@www.lis.ac.in
SUMMARY:The Power of Dreams: How setting goals can  transform your life
DESCRIPTION:
URL:https://www.lis.ac.in/calendar_new/event/the-power-of-dreams-how-setting-goals-can-transform-your-life/
CATEGORIES:Admin,Student,Teacher
END:VEVENT
BEGIN:VEVENT
DTSTART;VALUE=DATE:20250306
DTEND;VALUE=DATE:20250307
DTSTAMP:20260425T033933
CREATED:20250120T104454Z
LAST-MODIFIED:20250120T104454Z
UID:1289-1741219200-1741305599@www.lis.ac.in
SUMMARY:International Women's Day
DESCRIPTION:
URL:https://www.lis.ac.in/calendar_new/event/international-womens-day/
CATEGORIES:Admin,Student,Teacher
END:VEVENT
BEGIN:VEVENT
DTSTART;VALUE=DATE:20250307
DTEND;VALUE=DATE:20250308
DTSTAMP:20260425T033933
CREATED:20250120T104023Z
LAST-MODIFIED:20250120T104023Z
UID:1275-1741305600-1741391999@www.lis.ac.in
SUMMARY:TOK Exhibition
DESCRIPTION:
URL:https://www.lis.ac.in/calendar_new/event/tok-exhibition-3/
CATEGORIES:Admin,Student,Teacher
END:VEVENT
BEGIN:VEVENT
DTSTART;VALUE=DATE:20250307
DTEND;VALUE=DATE:20250308
DTSTAMP:20260425T033933
CREATED:20250305T051547Z
LAST-MODIFIED:20250305T051547Z
UID:1320-1741305600-1741391999@www.lis.ac.in
SUMMARY:PYP Exhibition Local Action for Underpriviledged Children
DESCRIPTION:
URL:https://www.lis.ac.in/calendar_new/event/pyp-exhibition-local-action-for-underpriviledged-children/
CATEGORIES:Admin,Student,Teacher
END:VEVENT
BEGIN:VEVENT
DTSTART;VALUE=DATE:20250310
DTEND;VALUE=DATE:20250315
DTSTAMP:20260425T033933
CREATED:20250120T104542Z
LAST-MODIFIED:20250120T104542Z
UID:1291-1741564800-1741996799@www.lis.ac.in
SUMMARY:Maths Week
DESCRIPTION:
URL:https://www.lis.ac.in/calendar_new/event/maths-week-3/
CATEGORIES:Admin,Student,Teacher
END:VEVENT
BEGIN:VEVENT
DTSTART;VALUE=DATE:20250310
DTEND;VALUE=DATE:20250311
DTSTAMP:20260425T033933
CREATED:20250305T051927Z
LAST-MODIFIED:20250305T051927Z
UID:1322-1741564800-1741651199@www.lis.ac.in
SUMMARY:PYP Exhibition Local Action for Baas Foundation
DESCRIPTION:
URL:https://www.lis.ac.in/calendar_new/event/pyp-exhibition-local-action-for-baas-foundation/
CATEGORIES:Admin,Student,Teacher
END:VEVENT
BEGIN:VEVENT
DTSTART;VALUE=DATE:20250310
DTEND;VALUE=DATE:20250311
DTSTAMP:20260425T033933
CREATED:20250315T040103Z
LAST-MODIFIED:20250315T040103Z
UID:1333-1741564800-1741651199@www.lis.ac.in
SUMMARY:Number Explorers
DESCRIPTION:
URL:https://www.lis.ac.in/calendar_new/event/number-explorers/
CATEGORIES:Admin,Student,Teacher
END:VEVENT
BEGIN:VEVENT
DTSTART;VALUE=DATE:20250311
DTEND;VALUE=DATE:20250312
DTSTAMP:20260425T033933
CREATED:20250315T040136Z
LAST-MODIFIED:20250315T040136Z
UID:1335-1741651200-1741737599@www.lis.ac.in
SUMMARY:Shape & Pattern Detectives
DESCRIPTION:
URL:https://www.lis.ac.in/calendar_new/event/shape-pattern-detectives/
CATEGORIES:Admin,Student,Teacher
END:VEVENT
BEGIN:VEVENT
DTSTART;VALUE=DATE:20250312
DTEND;VALUE=DATE:20250313
DTSTAMP:20260425T033933
CREATED:20250315T040212Z
LAST-MODIFIED:20250315T040212Z
UID:1337-1741737600-1741823999@www.lis.ac.in
SUMMARY:Measurement Masters
DESCRIPTION:
URL:https://www.lis.ac.in/calendar_new/event/measurement-masters/
CATEGORIES:Admin,Student,Teacher
END:VEVENT
BEGIN:VEVENT
DTSTART;VALUE=DATE:20250313
DTEND;VALUE=DATE:20250314
DTSTAMP:20260425T033933
CREATED:20250120T102739Z
LAST-MODIFIED:20250120T102739Z
UID:1245-1741824000-1741910399@www.lis.ac.in
SUMMARY:Why Curiosity Matters: Keeping the spark of  learning alive
DESCRIPTION:
URL:https://www.lis.ac.in/calendar_new/event/why-curiosity-matters-keeping-the-spark-of-learning-alive/
CATEGORIES:Admin,Student,Teacher
END:VEVENT
BEGIN:VEVENT
DTSTART;VALUE=DATE:20250313
DTEND;VALUE=DATE:20250314
DTSTAMP:20260425T033933
CREATED:20250315T040346Z
LAST-MODIFIED:20250315T041156Z
UID:1339-1741824000-1741910399@www.lis.ac.in
SUMMARY:Pi Day Assembly and Math Exhibition
DESCRIPTION:
URL:https://www.lis.ac.in/calendar_new/event/pi-day-assembly-and-math-exhibition/
CATEGORIES:Admin,Student,Teacher
END:VEVENT
BEGIN:VEVENT
DTSTART;VALUE=DATE:20250314
DTEND;VALUE=DATE:20250315
DTSTAMP:20260425T033933
CREATED:20240618T100453Z
LAST-MODIFIED:20240618T100453Z
UID:1019-1741910400-1741996799@www.lis.ac.in
SUMMARY:Holi
DESCRIPTION:
URL:https://www.lis.ac.in/calendar_new/event/holi/
CATEGORIES:Admin,Student,Teacher
END:VEVENT
BEGIN:VEVENT
DTSTART;TZID=Asia/Kolkata:20250318T080000
DTEND;TZID=Asia/Kolkata:20250318T170000
DTSTAMP:20260425T033933
CREATED:20250305T052033Z
LAST-MODIFIED:20250305T052033Z
UID:1324-1742284800-1742317200@www.lis.ac.in
SUMMARY:Grade 2 Field Trip to Transport Museum
DESCRIPTION:
URL:https://www.lis.ac.in/calendar_new/event/grade-2-field-trip-to-transport-museum/
CATEGORIES:Admin,Student,Teacher
END:VEVENT
BEGIN:VEVENT
DTSTART;VALUE=DATE:20250320
DTEND;VALUE=DATE:20250321
DTSTAMP:20260425T033933
CREATED:20250120T102814Z
LAST-MODIFIED:20250120T102814Z
UID:1247-1742428800-1742515199@www.lis.ac.in
SUMMARY:Empathy as Leadership: How understanding  others makes you stronger
DESCRIPTION:
URL:https://www.lis.ac.in/calendar_new/event/empathy-as-leadership-how-understanding-others-makes-you-stronger/
CATEGORIES:Admin,Student,Teacher
END:VEVENT
BEGIN:VEVENT
DTSTART;VALUE=DATE:20250320
DTEND;VALUE=DATE:20250321
DTSTAMP:20260425T033933
CREATED:20250120T104610Z
LAST-MODIFIED:20250120T104610Z
UID:1293-1742428800-1742515199@www.lis.ac.in
SUMMARY:International Day of Happiness
DESCRIPTION:
URL:https://www.lis.ac.in/calendar_new/event/international-day-of-happiness/
CATEGORIES:Admin,Student,Teacher
END:VEVENT
BEGIN:VEVENT
DTSTART;VALUE=DATE:20250320
DTEND;VALUE=DATE:20250322
DTSTAMP:20260425T033933
CREATED:20250305T052942Z
LAST-MODIFIED:20250305T052942Z
UID:1326-1742428800-1742601599@www.lis.ac.in
SUMMARY:PYP Exhibition
DESCRIPTION:
URL:https://www.lis.ac.in/calendar_new/event/pyp-exhibition-4/
CATEGORIES:Admin,Student,Teacher
END:VEVENT
BEGIN:VEVENT
DTSTART;VALUE=DATE:20250320
DTEND;VALUE=DATE:20250321
DTSTAMP:20260425T033933
CREATED:20250305T053108Z
LAST-MODIFIED:20250305T053108Z
UID:1328-1742428800-1742515199@www.lis.ac.in
SUMMARY:Little ABLE Concert\, "The Spectrum of Joy"
DESCRIPTION:
URL:https://www.lis.ac.in/calendar_new/event/little-able-concert-the-spectrum-of-joy/
CATEGORIES:Admin,Student,Teacher
END:VEVENT
BEGIN:VEVENT
DTSTART;VALUE=DATE:20250321
DTEND;VALUE=DATE:20250323
DTSTAMP:20260425T033933
CREATED:20240618T100655Z
LAST-MODIFIED:20240618T100655Z
UID:1021-1742515200-1742687999@www.lis.ac.in
SUMMARY:PYP Exhibition
DESCRIPTION:
URL:https://www.lis.ac.in/calendar_new/event/pyp-exhibition-3/
CATEGORIES:Admin,Student,Teacher
END:VEVENT
BEGIN:VEVENT
DTSTART;VALUE=DATE:20250321
DTEND;VALUE=DATE:20250322
DTSTAMP:20260425T033933
CREATED:20240618T100805Z
LAST-MODIFIED:20240618T100805Z
UID:1024-1742515200-1742601599@www.lis.ac.in
SUMMARY:PYP PTM
DESCRIPTION:
URL:https://www.lis.ac.in/calendar_new/event/pyp-ptm-2/
CATEGORIES:Admin,Student,Teacher
END:VEVENT
BEGIN:VEVENT
DTSTART;VALUE=DATE:20250321
DTEND;VALUE=DATE:20250322
DTSTAMP:20260425T033933
CREATED:20250120T104059Z
LAST-MODIFIED:20250120T104059Z
UID:1277-1742515200-1742601599@www.lis.ac.in
SUMMARY:World Poetry Day
DESCRIPTION:
URL:https://www.lis.ac.in/calendar_new/event/world-poetry-day/
CATEGORIES:Admin,Student,Teacher
END:VEVENT
BEGIN:VEVENT
DTSTART;VALUE=DATE:20250322
DTEND;VALUE=DATE:20250323
DTSTAMP:20260425T033933
CREATED:20240618T100924Z
LAST-MODIFIED:20240618T100924Z
UID:1027-1742601600-1742687999@www.lis.ac.in
SUMMARY:Middle & SS PTM
DESCRIPTION:
URL:https://www.lis.ac.in/calendar_new/event/middle-ss-ptm-2/
CATEGORIES:Admin,Student,Teacher
END:VEVENT
BEGIN:VEVENT
DTSTART;VALUE=DATE:20250322
DTEND;VALUE=DATE:20250323
DTSTAMP:20260425T033933
CREATED:20250305T053239Z
LAST-MODIFIED:20250305T053239Z
UID:1330-1742601600-1742687999@www.lis.ac.in
SUMMARY:Professional Development for Teachers
DESCRIPTION:
URL:https://www.lis.ac.in/calendar_new/event/professional-development-for-teachers/
CATEGORIES:Admin,Student,Teacher
END:VEVENT
BEGIN:VEVENT
DTSTART;VALUE=DATE:20250324
DTEND;VALUE=DATE:20250325
DTSTAMP:20260425T033933
CREATED:20240618T101049Z
LAST-MODIFIED:20240618T101049Z
UID:1030-1742774400-1742860799@www.lis.ac.in
SUMMARY:Quarter 4 begins
DESCRIPTION:
URL:https://www.lis.ac.in/calendar_new/event/quarter-4-begins-2/
CATEGORIES:Admin,Student,Teacher
END:VEVENT
BEGIN:VEVENT
DTSTART;TZID=Asia/Kolkata:20250327T080000
DTEND;TZID=Asia/Kolkata:20250327T090000
DTSTAMP:20260425T033933
CREATED:20250305T045748Z
LAST-MODIFIED:20250305T045748Z
UID:1312-1743062400-1743066000@www.lis.ac.in
SUMMARY:3D Animation and VFX-Masterclass by Torrens University
DESCRIPTION:
URL:https://www.lis.ac.in/calendar_new/event/3d-animation-and-vfx-masterclass-by-torrens-university/
CATEGORIES:Admin,Student,Teacher
END:VEVENT
BEGIN:VEVENT
DTSTART;VALUE=DATE:20250329
DTEND;VALUE=DATE:20250330
DTSTAMP:20260425T033933
CREATED:20240618T101210Z
LAST-MODIFIED:20240618T101210Z
UID:1032-1743206400-1743292799@www.lis.ac.in
SUMMARY:DP Graduation
DESCRIPTION:
URL:https://www.lis.ac.in/calendar_new/event/dp-graduation/
CATEGORIES:Admin,Student,Teacher
END:VEVENT
BEGIN:VEVENT
DTSTART;VALUE=DATE:20250331
DTEND;VALUE=DATE:20250401
DTSTAMP:20260425T033933
CREATED:20240618T101353Z
LAST-MODIFIED:20240618T101353Z
UID:1034-1743379200-1743465599@www.lis.ac.in
SUMMARY:Eid Ul Fitr*
DESCRIPTION:
URL:https://www.lis.ac.in/calendar_new/event/eid-ul-fitr/
CATEGORIES:Admin,Student,Teacher
END:VEVENT
END:VCALENDAR