BEGIN:VCALENDAR
VERSION:2.0
PRODID:-//LIS Calendar - ECPv6.15.11//NONSGML v1.0//EN
CALSCALE:GREGORIAN
METHOD:PUBLISH
X-ORIGINAL-URL:https://www.lis.ac.in/calendar_new
X-WR-CALDESC:Events for LIS Calendar
REFRESH-INTERVAL;VALUE=DURATION:PT1H
X-Robots-Tag:noindex
X-PUBLISHED-TTL:PT1H
BEGIN:VTIMEZONE
TZID:Asia/Kolkata
BEGIN:STANDARD
TZOFFSETFROM:+0530
TZOFFSETTO:+0530
TZNAME:IST
DTSTART:20230101T000000
END:STANDARD
END:VTIMEZONE
BEGIN:VEVENT
DTSTART;VALUE=DATE:20241030
DTEND;VALUE=DATE:20241031
DTSTAMP:20260424T185726
CREATED:20241011T044826Z
LAST-MODIFIED:20241011T044826Z
UID:1208-1730246400-1730332799@www.lis.ac.in
SUMMARY:Didi Appreciation by Grade 1 Students
DESCRIPTION:
URL:https://www.lis.ac.in/calendar_new/event/didi-appreciation-by-grade-1-students/
CATEGORIES:Admin,Student,Teacher
END:VEVENT
BEGIN:VEVENT
DTSTART;VALUE=DATE:20241031
DTEND;VALUE=DATE:20241105
DTSTAMP:20260424T185726
CREATED:20240618T073231Z
LAST-MODIFIED:20240618T073231Z
UID:938-1730332800-1730764799@www.lis.ac.in
SUMMARY:Diwali Break
DESCRIPTION:
URL:https://www.lis.ac.in/calendar_new/event/diwali-break-5/
CATEGORIES:Admin,Student,Teacher
END:VEVENT
BEGIN:VEVENT
DTSTART;TZID=Asia/Kolkata:20241031T080000
DTEND;TZID=Asia/Kolkata:20241031T090000
DTSTAMP:20260424T185726
CREATED:20240930T090356Z
LAST-MODIFIED:20240930T090356Z
UID:1133-1730361600-1730365200@www.lis.ac.in
SUMMARY:Global Knowledge: Connecting Cultures through Learning
DESCRIPTION:
URL:https://www.lis.ac.in/calendar_new/event/global-knowledge-connecting-cultures-through-learning/
CATEGORIES:Admin,Student,Teacher
END:VEVENT
BEGIN:VEVENT
DTSTART;VALUE=DATE:20241101
DTEND;VALUE=DATE:20241102
DTSTAMP:20260424T185726
CREATED:20240618T073315Z
LAST-MODIFIED:20240618T073315Z
UID:940-1730419200-1730505599@www.lis.ac.in
SUMMARY:Haryana Day
DESCRIPTION:
URL:https://www.lis.ac.in/calendar_new/event/haryana-day/
CATEGORIES:Admin,Student,Teacher
END:VEVENT
BEGIN:VEVENT
DTSTART;TZID=Asia/Kolkata:20241105T100000
DTEND;TZID=Asia/Kolkata:20241105T120000
DTSTAMP:20260424T185726
CREATED:20241010T062911Z
LAST-MODIFIED:20241010T062911Z
UID:1177-1730800800-1730808000@www.lis.ac.in
SUMMARY:CAS-Visit to DLF Shiksha Kendra
DESCRIPTION:
URL:https://www.lis.ac.in/calendar_new/event/cas-visit-to-dlf-shiksha-kendra-5/
CATEGORIES:Admin,Student,Teacher
END:VEVENT
BEGIN:VEVENT
DTSTART;TZID=Asia/Kolkata:20241107T080000
DTEND;TZID=Asia/Kolkata:20241107T090000
DTSTAMP:20260424T185726
CREATED:20240930T090521Z
LAST-MODIFIED:20240930T090521Z
UID:1135-1730966400-1730970000@www.lis.ac.in
SUMMARY:Growth Mindset: The Path to Lifelong Learning
DESCRIPTION:
URL:https://www.lis.ac.in/calendar_new/event/growth-mindset-the-path-to-lifelong-learning/
CATEGORIES:Admin,Student,Teacher
END:VEVENT
BEGIN:VEVENT
DTSTART;TZID=Asia/Kolkata:20241108T080000
DTEND;TZID=Asia/Kolkata:20241108T090000
DTSTAMP:20260424T185726
CREATED:20240930T091223Z
LAST-MODIFIED:20240930T091223Z
UID:1149-1731052800-1731056400@www.lis.ac.in
SUMMARY:World science day- 10th November
DESCRIPTION:
URL:https://www.lis.ac.in/calendar_new/event/world-science-day-10th-november/
CATEGORIES:Admin,Student,Teacher
END:VEVENT
BEGIN:VEVENT
DTSTART;VALUE=DATE:20241111
DTEND;VALUE=DATE:20241115
DTSTAMP:20260424T185726
CREATED:20240618T073411Z
LAST-MODIFIED:20240618T073411Z
UID:943-1731283200-1731628799@www.lis.ac.in
SUMMARY:LIS Cup
DESCRIPTION:
URL:https://www.lis.ac.in/calendar_new/event/lis-cup/
CATEGORIES:Admin,Student,Teacher
END:VEVENT
BEGIN:VEVENT
DTSTART;TZID=Asia/Kolkata:20241112T080000
DTEND;TZID=Asia/Kolkata:20241112T090000
DTSTAMP:20260424T185726
CREATED:20241107T101124Z
LAST-MODIFIED:20241107T101124Z
UID:1215-1731398400-1731402000@www.lis.ac.in
SUMMARY:Session on Cultural Exchange and Excursion Program at Cape Breton University (CBU)-Grades 6 to 10
DESCRIPTION:
URL:https://www.lis.ac.in/calendar_new/event/session-on-cultural-exchange-and-excursion-program-at-cape-breton-university-cbu-grades-6-to-10/
CATEGORIES:Admin,Student,Teacher
END:VEVENT
BEGIN:VEVENT
DTSTART;TZID=Asia/Kolkata:20241112T080000
DTEND;TZID=Asia/Kolkata:20241112T090000
DTSTAMP:20260424T185726
CREATED:20241107T101224Z
LAST-MODIFIED:20241107T101224Z
UID:1217-1731398400-1731402000@www.lis.ac.in
SUMMARY:Session on education options in Dubai-Grade 11 and 12
DESCRIPTION:
URL:https://www.lis.ac.in/calendar_new/event/session-on-education-options-in-dubai-grade-11-and-12/
CATEGORIES:Admin,Student,Teacher
END:VEVENT
BEGIN:VEVENT
DTSTART;TZID=Asia/Kolkata:20241114T080000
DTEND;TZID=Asia/Kolkata:20241114T090000
DTSTAMP:20260424T185726
CREATED:20240930T090602Z
LAST-MODIFIED:20240930T090602Z
UID:1137-1731571200-1731574800@www.lis.ac.in
SUMMARY:Children's Day Celebration
DESCRIPTION:
URL:https://www.lis.ac.in/calendar_new/event/childrens-day-celebration/
CATEGORIES:Admin,Student,Teacher
END:VEVENT
BEGIN:VEVENT
DTSTART;VALUE=DATE:20241115
DTEND;VALUE=DATE:20241116
DTSTAMP:20260424T185726
CREATED:20240618T073526Z
LAST-MODIFIED:20240618T073526Z
UID:945-1731628800-1731715199@www.lis.ac.in
SUMMARY:Guru Nanak Dev Jayanti
DESCRIPTION:
URL:https://www.lis.ac.in/calendar_new/event/guru-nanak-dev-jayanti/
CATEGORIES:Admin,Student,Teacher
END:VEVENT
BEGIN:VEVENT
DTSTART;VALUE=DATE:20241118
DTEND;VALUE=DATE:20241121
DTSTAMP:20260424T185726
CREATED:20240618T073646Z
LAST-MODIFIED:20240618T073646Z
UID:948-1731888000-1732147199@www.lis.ac.in
SUMMARY:Rich Languages Week
DESCRIPTION:
URL:https://www.lis.ac.in/calendar_new/event/rich-languages-week/
CATEGORIES:Admin,Student,Teacher
END:VEVENT
BEGIN:VEVENT
DTSTART;TZID=Asia/Kolkata:20241121T080000
DTEND;TZID=Asia/Kolkata:20241121T170000
DTSTAMP:20260424T185726
CREATED:20240930T090749Z
LAST-MODIFIED:20240930T090749Z
UID:1139-1732176000-1732208400@www.lis.ac.in
SUMMARY:Rich Languages Week
DESCRIPTION:
URL:https://www.lis.ac.in/calendar_new/event/rich-languages-week-2/
CATEGORIES:Admin,Student,Teacher
END:VEVENT
BEGIN:VEVENT
DTSTART;TZID=Asia/Kolkata:20241126T100000
DTEND;TZID=Asia/Kolkata:20241126T120000
DTSTAMP:20260424T185726
CREATED:20241010T063009Z
LAST-MODIFIED:20241010T063009Z
UID:1179-1732615200-1732622400@www.lis.ac.in
SUMMARY:CAS-Visit to Shiksha Kendra
DESCRIPTION:
URL:https://www.lis.ac.in/calendar_new/event/cas-visit-to-shiksha-kendra/
CATEGORIES:Admin,Student,Teacher
END:VEVENT
BEGIN:VEVENT
DTSTART;VALUE=DATE:20241128
DTEND;VALUE=DATE:20241130
DTSTAMP:20260424T185726
CREATED:20240618T073805Z
LAST-MODIFIED:20240618T073805Z
UID:951-1732752000-1732924799@www.lis.ac.in
SUMMARY:Co-Curricular Exhibitions
DESCRIPTION:
URL:https://www.lis.ac.in/calendar_new/event/co-curricular-exhibitions-3/
CATEGORIES:Admin,Student,Teacher
END:VEVENT
BEGIN:VEVENT
DTSTART;TZID=Asia/Kolkata:20241128T080000
DTEND;TZID=Asia/Kolkata:20241128T090000
DTSTAMP:20260424T185726
CREATED:20240930T090840Z
LAST-MODIFIED:20240930T090840Z
UID:1141-1732780800-1732784400@www.lis.ac.in
SUMMARY:World Kindness Day- Celebration
DESCRIPTION:
URL:https://www.lis.ac.in/calendar_new/event/world-kindness-day-celebration/
CATEGORIES:Admin,Student,Teacher
END:VEVENT
BEGIN:VEVENT
DTSTART;TZID=Asia/Kolkata:20241129T080000
DTEND;TZID=Asia/Kolkata:20241129T090000
DTSTAMP:20260424T185726
CREATED:20240930T091424Z
LAST-MODIFIED:20240930T091424Z
UID:1155-1732867200-1732870800@www.lis.ac.in
SUMMARY:Global Citizenship: Knowledge and Thinking Beyond Borders
DESCRIPTION:
URL:https://www.lis.ac.in/calendar_new/event/global-citizenship-knowledge-and-thinking-beyond-borders/
CATEGORIES:Admin,Student,Teacher
END:VEVENT
BEGIN:VEVENT
DTSTART;VALUE=DATE:20241205
DTEND;VALUE=DATE:20241219
DTSTAMP:20260424T185726
CREATED:20240618T073953Z
LAST-MODIFIED:20240618T073953Z
UID:954-1733356800-1734566399@www.lis.ac.in
SUMMARY:Half Yearly/Pre-mock Exam begins
DESCRIPTION:
URL:https://www.lis.ac.in/calendar_new/event/half-yearly-pre-mock-exam-begins/
CATEGORIES:Admin,Student,Teacher
END:VEVENT
BEGIN:VEVENT
DTSTART;VALUE=DATE:20241220
DTEND;VALUE=DATE:20241221
DTSTAMP:20260424T185726
CREATED:20240618T074102Z
LAST-MODIFIED:20240618T074102Z
UID:956-1734652800-1734739199@www.lis.ac.in
SUMMARY:PYP PTM
DESCRIPTION:
URL:https://www.lis.ac.in/calendar_new/event/pyp-ptm/
CATEGORIES:Admin,Student,Teacher
END:VEVENT
BEGIN:VEVENT
DTSTART;VALUE=DATE:20241220
DTEND;VALUE=DATE:20241221
DTSTAMP:20260424T185726
CREATED:20240618T074221Z
LAST-MODIFIED:20240618T074221Z
UID:959-1734652800-1734739199@www.lis.ac.in
SUMMARY:Christmas Carnival
DESCRIPTION:
URL:https://www.lis.ac.in/calendar_new/event/christmas-carnival-2/
CATEGORIES:Admin,Student,Teacher
END:VEVENT
BEGIN:VEVENT
DTSTART;VALUE=DATE:20241221
DTEND;VALUE=DATE:20241222
DTSTAMP:20260424T185726
CREATED:20240618T074403Z
LAST-MODIFIED:20240618T074403Z
UID:961-1734739200-1734825599@www.lis.ac.in
SUMMARY:Middle & SS PTM
DESCRIPTION:
URL:https://www.lis.ac.in/calendar_new/event/middle-ss-ptm/
CATEGORIES:Admin,Student,Teacher
END:VEVENT
BEGIN:VEVENT
DTSTART;VALUE=DATE:20241223
DTEND;VALUE=DATE:20241224
DTSTAMP:20260424T185726
CREATED:20240618T074529Z
LAST-MODIFIED:20240618T074529Z
UID:963-1734912000-1734998399@www.lis.ac.in
SUMMARY:Winter Break begins
DESCRIPTION:
URL:https://www.lis.ac.in/calendar_new/event/winter-break-begins-2/
CATEGORIES:Admin,Student,Teacher
END:VEVENT
BEGIN:VEVENT
DTSTART;VALUE=DATE:20241225
DTEND;VALUE=DATE:20241226
DTSTAMP:20260424T185726
CREATED:20240618T074634Z
LAST-MODIFIED:20240618T074634Z
UID:965-1735084800-1735171199@www.lis.ac.in
SUMMARY:Christmas
DESCRIPTION:
URL:https://www.lis.ac.in/calendar_new/event/christmas/
CATEGORIES:Admin,Student,Teacher
END:VEVENT
BEGIN:VEVENT
DTSTART;TZID=Asia/Kolkata:20250108T090000
DTEND;TZID=Asia/Kolkata:20250115T140000
DTSTAMP:20260424T185726
CREATED:20240618T075040Z
LAST-MODIFIED:20240618T075040Z
UID:967-1736326800-1736949600@www.lis.ac.in
SUMMARY:Extra Classes for Grades 10 & 12 Students
DESCRIPTION:
URL:https://www.lis.ac.in/calendar_new/event/extra-classes-for-grades-10-12-students/
CATEGORIES:Admin,Student,Teacher
END:VEVENT
BEGIN:VEVENT
DTSTART;TZID=Asia/Kolkata:20250109T080000
DTEND;TZID=Asia/Kolkata:20250112T170000
DTSTAMP:20260424T185726
CREATED:20241007T133923Z
LAST-MODIFIED:20241007T133923Z
UID:1157-1736409600-1736701200@www.lis.ac.in
SUMMARY:Harvard Debate League Workshop
DESCRIPTION:
URL:https://www.lis.ac.in/calendar_new/event/harvard-debate-league-workshop/
CATEGORIES:Admin,Student,Teacher
END:VEVENT
BEGIN:VEVENT
DTSTART;VALUE=DATE:20250115
DTEND;VALUE=DATE:20250116
DTSTAMP:20260424T185726
CREATED:20240618T075154Z
LAST-MODIFIED:20240618T080715Z
UID:969-1736899200-1736985599@www.lis.ac.in
SUMMARY:New Parent's Orientation
DESCRIPTION:
URL:https://www.lis.ac.in/calendar_new/event/new-parents-orientation-5/
CATEGORIES:Admin,Student,Teacher
END:VEVENT
BEGIN:VEVENT
DTSTART;VALUE=DATE:20250116
DTEND;VALUE=DATE:20250117
DTSTAMP:20260424T185726
CREATED:20240618T075754Z
LAST-MODIFIED:20240618T075754Z
UID:971-1736985600-1737071999@www.lis.ac.in
SUMMARY:Quarter 3 begins
DESCRIPTION:
URL:https://www.lis.ac.in/calendar_new/event/quarter-3-begins-2/
CATEGORIES:Admin,Student,Teacher
END:VEVENT
BEGIN:VEVENT
DTSTART;VALUE=DATE:20250118
DTEND;VALUE=DATE:20250119
DTSTAMP:20260424T185726
CREATED:20250111T082955Z
LAST-MODIFIED:20250111T082955Z
UID:1220-1737158400-1737244799@www.lis.ac.in
SUMMARY:Access USA Virtual Orientation for Parents and Students
DESCRIPTION:
URL:https://www.lis.ac.in/calendar_new/event/access-usa-virtual-orientation-for-parents-and-students/
CATEGORIES:Admin,Student,Teacher
END:VEVENT
BEGIN:VEVENT
DTSTART;TZID=Asia/Kolkata:20250120T080000
DTEND;TZID=Asia/Kolkata:20250120T170000
DTSTAMP:20260424T185726
CREATED:20250120T103106Z
LAST-MODIFIED:20250120T103106Z
UID:1255-1737360000-1737392400@www.lis.ac.in
SUMMARY:Turning Conflict into Collaboration: Lessons in effective communication
DESCRIPTION:
URL:https://www.lis.ac.in/calendar_new/event/turning-conflict-into-collaboration-lessons-in-effective-communication/
END:VEVENT
END:VCALENDAR