BEGIN:VCALENDAR
VERSION:2.0
PRODID:-//LIS Calendar - ECPv6.15.11//NONSGML v1.0//EN
CALSCALE:GREGORIAN
METHOD:PUBLISH
X-WR-CALNAME:LIS Calendar
X-ORIGINAL-URL:https://www.lis.ac.in/calendar_new
X-WR-CALDESC:Events for LIS Calendar
REFRESH-INTERVAL;VALUE=DURATION:PT1H
X-Robots-Tag:noindex
X-PUBLISHED-TTL:PT1H
BEGIN:VTIMEZONE
TZID:Asia/Kolkata
BEGIN:STANDARD
TZOFFSETFROM:+0530
TZOFFSETTO:+0530
TZNAME:IST
DTSTART:20230101T000000
END:STANDARD
END:VTIMEZONE
BEGIN:VEVENT
DTSTART;VALUE=DATE:20240928
DTEND;VALUE=DATE:20240929
DTSTAMP:20260424T190735
CREATED:20240618T071604Z
LAST-MODIFIED:20240618T071604Z
UID:920-1727481600-1727567999@www.lis.ac.in
SUMMARY:Student-Led Conference
DESCRIPTION:
URL:https://www.lis.ac.in/calendar_new/event/student-led-conference-2/
CATEGORIES:Admin,Student,Teacher
END:VEVENT
BEGIN:VEVENT
DTSTART;VALUE=DATE:20241002
DTEND;VALUE=DATE:20241003
DTSTAMP:20260424T190735
CREATED:20240618T072439Z
LAST-MODIFIED:20240618T072439Z
UID:922-1727827200-1727913599@www.lis.ac.in
SUMMARY:Gandhi Jayanti
DESCRIPTION:
URL:https://www.lis.ac.in/calendar_new/event/gandhi-jayanti/
CATEGORIES:Admin,Student,Teacher
END:VEVENT
BEGIN:VEVENT
DTSTART;VALUE=DATE:20241004
DTEND;VALUE=DATE:20241005
DTSTAMP:20260424T190735
CREATED:20240618T072538Z
LAST-MODIFIED:20240618T072538Z
UID:925-1728000000-1728086399@www.lis.ac.in
SUMMARY:Little ABLE Concert
DESCRIPTION:
URL:https://www.lis.ac.in/calendar_new/event/little-able-concert-4/
CATEGORIES:Admin,Student,Teacher
END:VEVENT
BEGIN:VEVENT
DTSTART;VALUE=DATE:20241005
DTEND;VALUE=DATE:20241006
DTSTAMP:20260424T190735
CREATED:20240618T072657Z
LAST-MODIFIED:20240618T072657Z
UID:928-1728086400-1728172799@www.lis.ac.in
SUMMARY:PTM/Student-Led-Conference
DESCRIPTION:
URL:https://www.lis.ac.in/calendar_new/event/ptm-student-led-conference/
CATEGORIES:Admin,Student,Teacher
END:VEVENT
BEGIN:VEVENT
DTSTART;VALUE=DATE:20241007
DTEND;VALUE=DATE:20241008
DTSTAMP:20260424T190735
CREATED:20240618T072804Z
LAST-MODIFIED:20240618T072804Z
UID:930-1728259200-1728345599@www.lis.ac.in
SUMMARY:Quarter 2 begins
DESCRIPTION:
URL:https://www.lis.ac.in/calendar_new/event/quarter-2-begins-2/
CATEGORIES:Admin,Student,Teacher
END:VEVENT
BEGIN:VEVENT
DTSTART;TZID=Asia/Kolkata:20241008T080000
DTEND;TZID=Asia/Kolkata:20241008T130000
DTSTAMP:20260424T190735
CREATED:20241010T062147Z
LAST-MODIFIED:20241010T062147Z
UID:1166-1728374400-1728392400@www.lis.ac.in
SUMMARY:Inter-school Event Participation "Umang" -Grades 9 to 12
DESCRIPTION:
URL:https://www.lis.ac.in/calendar_new/event/inter-school-event-participation-umang-grades-9-to-12/
CATEGORIES:Admin,Student,Teacher
END:VEVENT
BEGIN:VEVENT
DTSTART;TZID=Asia/Kolkata:20241008T100000
DTEND;TZID=Asia/Kolkata:20241008T120000
DTSTAMP:20260424T190735
CREATED:20241010T062420Z
LAST-MODIFIED:20241010T062420Z
UID:1168-1728381600-1728388800@www.lis.ac.in
SUMMARY:CAS-Visit to DLF Shiksha Kendra
DESCRIPTION:
URL:https://www.lis.ac.in/calendar_new/event/cas-visit-to-dlf-shiksha-kendra/
CATEGORIES:Admin,Student,Teacher
END:VEVENT
BEGIN:VEVENT
DTSTART;TZID=Asia/Kolkata:20241009T080000
DTEND;TZID=Asia/Kolkata:20241009T130000
DTSTAMP:20260424T190735
CREATED:20241010T064118Z
LAST-MODIFIED:20241010T064118Z
UID:1184-1728460800-1728478800@www.lis.ac.in
SUMMARY:CAS Summit-Inter-school Competition for Grades 9 to 12
DESCRIPTION:
URL:https://www.lis.ac.in/calendar_new/event/cas-summit-inter-school-competition-for-grades-9-to-12/
CATEGORIES:Admin,Student,Teacher
END:VEVENT
BEGIN:VEVENT
DTSTART;TZID=Asia/Kolkata:20241010T080000
DTEND;TZID=Asia/Kolkata:20241010T090000
DTSTAMP:20260424T190735
CREATED:20240930T085246Z
LAST-MODIFIED:20240930T085246Z
UID:1127-1728547200-1728550800@www.lis.ac.in
SUMMARY:Curiosity: The Key to Lifelong Knowledge
DESCRIPTION:
URL:https://www.lis.ac.in/calendar_new/event/curiosity-the-key-to-lifelong-knowledge/
CATEGORIES:Admin,Student,Teacher
END:VEVENT
BEGIN:VEVENT
DTSTART;TZID=Asia/Kolkata:20241011T080000
DTEND;TZID=Asia/Kolkata:20241011T090000
DTSTAMP:20260424T190735
CREATED:20240930T090924Z
LAST-MODIFIED:20240930T090924Z
UID:1143-1728633600-1728637200@www.lis.ac.in
SUMMARY:Thinking Outside the Box: Creativity and Innovation
DESCRIPTION:
URL:https://www.lis.ac.in/calendar_new/event/thinking-outside-the-box-creativity-and-innovation-2/
CATEGORIES:Admin,Student,Teacher
END:VEVENT
BEGIN:VEVENT
DTSTART;VALUE=DATE:20241012
DTEND;VALUE=DATE:20241013
DTSTAMP:20260424T190735
CREATED:20240618T072848Z
LAST-MODIFIED:20240618T072848Z
UID:932-1728691200-1728777599@www.lis.ac.in
SUMMARY:Dussehra
DESCRIPTION:
URL:https://www.lis.ac.in/calendar_new/event/dussehra-2/
CATEGORIES:Admin,Student,Teacher
END:VEVENT
BEGIN:VEVENT
DTSTART;TZID=Asia/Kolkata:20241015T080000
DTEND;TZID=Asia/Kolkata:20241015T090000
DTSTAMP:20260424T190735
CREATED:20240930T091314Z
LAST-MODIFIED:20240930T091314Z
UID:1151-1728979200-1728982800@www.lis.ac.in
SUMMARY:The Power of Critical Thinking in a Post-Truth Era
DESCRIPTION:
URL:https://www.lis.ac.in/calendar_new/event/the-power-of-critical-thinking-in-a-post-truth-era/
CATEGORIES:Admin,Student,Teacher
END:VEVENT
BEGIN:VEVENT
DTSTART;TZID=Asia/Kolkata:20241015T080000
DTEND;TZID=Asia/Kolkata:20241015T090000
DTSTAMP:20260424T190735
CREATED:20241007T134308Z
LAST-MODIFIED:20241007T134308Z
UID:1159-1728979200-1728982800@www.lis.ac.in
SUMMARY:Arizona State University- expert talk for grades 10 and 11
DESCRIPTION:
URL:https://www.lis.ac.in/calendar_new/event/arizona-state-university-expert-talk-for-grades-10-and-11/
CATEGORIES:Admin,Student,Teacher
END:VEVENT
BEGIN:VEVENT
DTSTART;TZID=Asia/Kolkata:20241015T100000
DTEND;TZID=Asia/Kolkata:20241015T120000
DTSTAMP:20260424T190735
CREATED:20241010T062503Z
LAST-MODIFIED:20241010T062503Z
UID:1170-1728986400-1728993600@www.lis.ac.in
SUMMARY:CAS-Visit to DLF Shiksha Kendra
DESCRIPTION:
URL:https://www.lis.ac.in/calendar_new/event/cas-visit-to-dlf-shiksha-kendra-2/
CATEGORIES:Admin,Student,Teacher
END:VEVENT
BEGIN:VEVENT
DTSTART;TZID=Asia/Kolkata:20241016T080000
DTEND;TZID=Asia/Kolkata:20241016T090000
DTSTAMP:20260424T190735
CREATED:20241007T134425Z
LAST-MODIFIED:20241007T134425Z
UID:1161-1729065600-1729069200@www.lis.ac.in
SUMMARY:Access USA Orientation Session for Grades 8 to 11
DESCRIPTION:
URL:https://www.lis.ac.in/calendar_new/event/access-usa-orientation-session-for-grades-8-to-11/
CATEGORIES:Admin,Student,Teacher
END:VEVENT
BEGIN:VEVENT
DTSTART;TZID=Asia/Kolkata:20241017T080000
DTEND;TZID=Asia/Kolkata:20241017T090000
DTSTAMP:20260424T190735
CREATED:20240930T085450Z
LAST-MODIFIED:20240930T085450Z
UID:1129-1729152000-1729155600@www.lis.ac.in
SUMMARY:Health and Nutrition: Highlight the importance of being informed abouth healthy eating and caring for one's body.
DESCRIPTION:
URL:https://www.lis.ac.in/calendar_new/event/health-and-nutrition-highlight-the-importance-of-being-informed-abouth-healthy-eating-and-caring-for-ones-body/
CATEGORIES:Admin,Student,Teacher
END:VEVENT
BEGIN:VEVENT
DTSTART;TZID=Asia/Kolkata:20241017T080000
DTEND;TZID=Asia/Kolkata:20241017T090000
DTSTAMP:20260424T190735
CREATED:20241007T134548Z
LAST-MODIFIED:20241007T134548Z
UID:1163-1729152000-1729155600@www.lis.ac.in
SUMMARY:Kings College London session for Grade 12
DESCRIPTION:
URL:https://www.lis.ac.in/calendar_new/event/kings-college-london-session-for-grade-12/
CATEGORIES:Admin,Student,Teacher
END:VEVENT
BEGIN:VEVENT
DTSTART;TZID=Asia/Kolkata:20241018T080000
DTEND;TZID=Asia/Kolkata:20241018T090000
DTSTAMP:20260424T190735
CREATED:20240930T091041Z
LAST-MODIFIED:20240930T091041Z
UID:1145-1729238400-1729242000@www.lis.ac.in
SUMMARY:Importance of life-long learning- Discuss the value of continuous education and curiosity
DESCRIPTION:
URL:https://www.lis.ac.in/calendar_new/event/importance-of-life-long-learning-discuss-the-value-of-continuous-education-and-curiosity/
CATEGORIES:Admin,Student,Teacher
END:VEVENT
BEGIN:VEVENT
DTSTART;TZID=Asia/Kolkata:20241022T080000
DTEND;TZID=Asia/Kolkata:20241022T090000
DTSTAMP:20260424T190735
CREATED:20240930T091350Z
LAST-MODIFIED:20240930T091350Z
UID:1153-1729584000-1729587600@www.lis.ac.in
SUMMARY:Reflection and Growth: Turning Failures into Success
DESCRIPTION:
URL:https://www.lis.ac.in/calendar_new/event/reflection-and-growth-turning-failures-into-success/
CATEGORIES:Admin,Student,Teacher
END:VEVENT
BEGIN:VEVENT
DTSTART;TZID=Asia/Kolkata:20241022T080000
DTEND;TZID=Asia/Kolkata:20241022T090000
DTSTAMP:20260424T190735
CREATED:20241017T165538Z
LAST-MODIFIED:20241017T165538Z
UID:1210-1729584000-1729587600@www.lis.ac.in
SUMMARY:Technology and Its Impact-Session by Plaksha University for Grade XI and XII Students
DESCRIPTION:
URL:https://www.lis.ac.in/calendar_new/event/technology-and-its-impact-session-by-plaksha-university-for-grade-xi-and-xii-students/
CATEGORIES:Admin,Student,Teacher
END:VEVENT
BEGIN:VEVENT
DTSTART;VALUE=DATE:20241024
DTEND;VALUE=DATE:20241025
DTSTAMP:20260424T190735
CREATED:20241010T111834Z
LAST-MODIFIED:20241010T111834Z
UID:1198-1729728000-1729814399@www.lis.ac.in
SUMMARY:Blue Haven by Grade 2 Students
DESCRIPTION:
URL:https://www.lis.ac.in/calendar_new/event/blue-haven-by-grade-2-students/
CATEGORIES:Admin,Student,Teacher
END:VEVENT
BEGIN:VEVENT
DTSTART;TZID=Asia/Kolkata:20241024T080000
DTEND;TZID=Asia/Kolkata:20241024T090000
DTSTAMP:20260424T190735
CREATED:20240930T085659Z
LAST-MODIFIED:20240930T085659Z
UID:1131-1729756800-1729760400@www.lis.ac.in
SUMMARY:Thinking Outside the Box: Creativity and Innovation
DESCRIPTION:
URL:https://www.lis.ac.in/calendar_new/event/thinking-outside-the-box-creativity-and-innovation/
CATEGORIES:Admin,Student,Teacher
END:VEVENT
BEGIN:VEVENT
DTSTART;VALUE=DATE:20241025
DTEND;VALUE=DATE:20241026
DTSTAMP:20260424T190735
CREATED:20241010T112225Z
LAST-MODIFIED:20241010T112225Z
UID:1200-1729814400-1729900799@www.lis.ac.in
SUMMARY:Health Mission by Grade 5 Students for out of School Children
DESCRIPTION:
URL:https://www.lis.ac.in/calendar_new/event/health-mission-by-grade-5-students-for-out-of-school-children/
CATEGORIES:Admin,Student,Teacher
END:VEVENT
BEGIN:VEVENT
DTSTART;TZID=Asia/Kolkata:20241025T080000
DTEND;TZID=Asia/Kolkata:20241025T090000
DTSTAMP:20260424T190735
CREATED:20240930T091122Z
LAST-MODIFIED:20240930T091122Z
UID:1147-1729843200-1729846800@www.lis.ac.in
SUMMARY:United Nations Day- Celebration
DESCRIPTION:
URL:https://www.lis.ac.in/calendar_new/event/united-nations-day-celebration/
CATEGORIES:Admin,Student,Teacher
END:VEVENT
BEGIN:VEVENT
DTSTART;TZID=Asia/Kolkata:20241025T080000
DTEND;TZID=Asia/Kolkata:20241025T090000
DTSTAMP:20260424T190735
CREATED:20241017T165643Z
LAST-MODIFIED:20241017T165643Z
UID:1212-1729843200-1729846800@www.lis.ac.in
SUMMARY:Session by Warwick University for Grade XI and XII students
DESCRIPTION:
URL:https://www.lis.ac.in/calendar_new/event/session-by-warwick-university-for-grade-xi-and-xii-students/
CATEGORIES:Admin,Student,Teacher
END:VEVENT
BEGIN:VEVENT
DTSTART;TZID=Asia/Kolkata:20241026T100000
DTEND;TZID=Asia/Kolkata:20241026T120000
DTSTAMP:20260424T190735
CREATED:20241010T062754Z
LAST-MODIFIED:20241010T062754Z
UID:1174-1729936800-1729944000@www.lis.ac.in
SUMMARY:CAS-Visit to DLF Shiksha Kendra
DESCRIPTION:
URL:https://www.lis.ac.in/calendar_new/event/cas-visit-to-dlf-shiksha-kendra-4/
CATEGORIES:Admin,Student,Teacher
END:VEVENT
BEGIN:VEVENT
DTSTART;VALUE=DATE:20241028
DTEND;VALUE=DATE:20241031
DTSTAMP:20260424T190735
CREATED:20240618T073111Z
LAST-MODIFIED:20240618T073111Z
UID:935-1730073600-1730332799@www.lis.ac.in
SUMMARY:Inter-School Festival
DESCRIPTION:
URL:https://www.lis.ac.in/calendar_new/event/inter-school-festival/
CATEGORIES:Admin,Student,Teacher
END:VEVENT
BEGIN:VEVENT
DTSTART;VALUE=DATE:20241028
DTEND;VALUE=DATE:20241029
DTSTAMP:20260424T190735
CREATED:20241011T044436Z
LAST-MODIFIED:20241011T044436Z
UID:1202-1730073600-1730159999@www.lis.ac.in
SUMMARY:Share A Book by EY students for BAAS Foundation
DESCRIPTION:
URL:https://www.lis.ac.in/calendar_new/event/share-a-book-by-ey-students-for-baas-foundation/
CATEGORIES:Admin,Student,Teacher
END:VEVENT
BEGIN:VEVENT
DTSTART;VALUE=DATE:20241028
DTEND;VALUE=DATE:20241029
DTSTAMP:20260424T190735
CREATED:20241011T044546Z
LAST-MODIFIED:20241011T044611Z
UID:1204-1730073600-1730159999@www.lis.ac.in
SUMMARY:Gratitude Box by Grade 3 Students for BAAS Foundation
DESCRIPTION:
URL:https://www.lis.ac.in/calendar_new/event/gratitude-box-by-grade-3-students-for-baas-foundation/
CATEGORIES:Admin,Student,Teacher
END:VEVENT
BEGIN:VEVENT
DTSTART;VALUE=DATE:20241029
DTEND;VALUE=DATE:20241030
DTSTAMP:20260424T190735
CREATED:20241011T044735Z
LAST-MODIFIED:20241011T044735Z
UID:1206-1730160000-1730246399@www.lis.ac.in
SUMMARY:Golden Horizon by Grade 4 students for Old Age
DESCRIPTION:
URL:https://www.lis.ac.in/calendar_new/event/golden-horizon-by-grade-4-students-for-old-age/
CATEGORIES:Admin,Student,Teacher
END:VEVENT
END:VCALENDAR