BEGIN:VCALENDAR
VERSION:2.0
PRODID:-//LIS Calendar - ECPv6.15.11//NONSGML v1.0//EN
CALSCALE:GREGORIAN
METHOD:PUBLISH
X-WR-CALNAME:LIS Calendar
X-ORIGINAL-URL:https://www.lis.ac.in/calendar_new
X-WR-CALDESC:Events for LIS Calendar
REFRESH-INTERVAL;VALUE=DURATION:PT1H
X-Robots-Tag:noindex
X-PUBLISHED-TTL:PT1H
BEGIN:VTIMEZONE
TZID:Asia/Kolkata
BEGIN:STANDARD
TZOFFSETFROM:+0530
TZOFFSETTO:+0530
TZNAME:IST
DTSTART:20240101T000000
END:STANDARD
END:VTIMEZONE
BEGIN:VEVENT
DTSTART;TZID=Asia/Kolkata:20250916T080000
DTEND;TZID=Asia/Kolkata:20250916T090000
DTSTAMP:20260425T195428
CREATED:20250811T161701Z
LAST-MODIFIED:20250908T110704Z
UID:1592-1758009600-1758013200@www.lis.ac.in
SUMMARY:Assembly Grades 6 to 9-Thinking Outside the Box: Creativity and Innovation
DESCRIPTION:
URL:https://www.lis.ac.in/calendar_new/event/thinking-outside-the-box-creativity-and-innovation-4/
CATEGORIES:Admin,Teacher
END:VEVENT
BEGIN:VEVENT
DTSTART;VALUE=DATE:20250918
DTEND;VALUE=DATE:20250919
DTSTAMP:20260425T195428
CREATED:20250828T055944Z
LAST-MODIFIED:20250828T055944Z
UID:1639-1758153600-1758239999@www.lis.ac.in
SUMMARY:Interhouse Competition Tennis-Grade 1 and 2
DESCRIPTION:
URL:https://www.lis.ac.in/calendar_new/event/interhouse-competition-tennis-grade-1-and-2-2/
CATEGORIES:Admin,Student,Teacher
END:VEVENT
BEGIN:VEVENT
DTSTART;VALUE=DATE:20250918
DTEND;VALUE=DATE:20250919
DTSTAMP:20260425T195428
CREATED:20250828T060229Z
LAST-MODIFIED:20250828T060258Z
UID:1647-1758153600-1758239999@www.lis.ac.in
SUMMARY:Interhouse Competiton-Mental Math (Grade 3 and 4)
DESCRIPTION:
URL:https://www.lis.ac.in/calendar_new/event/interhouse-competiton-mental-math-2/
CATEGORIES:Admin,Student,Teacher
END:VEVENT
BEGIN:VEVENT
DTSTART;TZID=Asia/Kolkata:20250919T080000
DTEND;TZID=Asia/Kolkata:20250919T090000
DTSTAMP:20260425T195428
CREATED:20250811T165209Z
LAST-MODIFIED:20250908T105511Z
UID:1611-1758268800-1758272400@www.lis.ac.in
SUMMARY:Assembly Grades 10 to 12 UN-International day of peace
DESCRIPTION:
URL:https://www.lis.ac.in/calendar_new/event/un-international-day-of-peace/
CATEGORIES:Admin,Student,Teacher
END:VEVENT
BEGIN:VEVENT
DTSTART;TZID=Asia/Kolkata:20250919T080000
DTEND;TZID=Asia/Kolkata:20250919T093000
DTSTAMP:20260425T195428
CREATED:20250915T052639Z
LAST-MODIFIED:20250915T052639Z
UID:1686-1758268800-1758274200@www.lis.ac.in
SUMMARY:Forensic Science workshop for Grades 9-12 students-Session by Amity University
DESCRIPTION:
URL:https://www.lis.ac.in/calendar_new/event/forensic-science-workshop-for-grades-9-12-students-session-by-amity-university/
CATEGORIES:Admin,Student,Teacher
END:VEVENT
BEGIN:VEVENT
DTSTART;VALUE=DATE:20250923
DTEND;VALUE=DATE:20250924
DTSTAMP:20260425T195428
CREATED:20250828T060039Z
LAST-MODIFIED:20250828T060039Z
UID:1641-1758585600-1758671999@www.lis.ac.in
SUMMARY:Interhouse Competition Tennis-Grades 3 to 5
DESCRIPTION:
URL:https://www.lis.ac.in/calendar_new/event/interhouse-competition-tennis-grades-3-to-5/
CATEGORIES:Admin,Student,Teacher
END:VEVENT
BEGIN:VEVENT
DTSTART;VALUE=DATE:20250923
DTEND;VALUE=DATE:20250924
DTSTAMP:20260425T195428
CREATED:20250828T060339Z
LAST-MODIFIED:20250908T111813Z
UID:1650-1758585600-1758671999@www.lis.ac.in
SUMMARY:Interhouse Competiton-Mental Math (Grade 1 & 2)
DESCRIPTION:
URL:https://www.lis.ac.in/calendar_new/event/interhouse-competiton-mental-mathgrade-1-2/
CATEGORIES:Admin,Student,Teacher
END:VEVENT
BEGIN:VEVENT
DTSTART;TZID=Asia/Kolkata:20250923T080000
DTEND;TZID=Asia/Kolkata:20250923T090000
DTSTAMP:20260425T195428
CREATED:20250811T161806Z
LAST-MODIFIED:20250908T110844Z
UID:1594-1758614400-1758618000@www.lis.ac.in
SUMMARY:Assembly Grades 6  to 9 - Curiosity: The Key to Lifelong Knowledge
DESCRIPTION:
URL:https://www.lis.ac.in/calendar_new/event/curiosity-the-key-to-lifelong-knowledge-3/
CATEGORIES:Admin,Student,Teacher
END:VEVENT
BEGIN:VEVENT
DTSTART;TZID=Asia/Kolkata:20250924T080000
DTEND;TZID=Asia/Kolkata:20250924T090000
DTSTAMP:20260425T195428
CREATED:20250917T081246Z
LAST-MODIFIED:20250917T081246Z
UID:1689-1758700800-1758704400@www.lis.ac.in
SUMMARY:University Fair for Grades 9 to 12 students-USA\, France\, Germany and West Indies Universities
DESCRIPTION:
URL:https://www.lis.ac.in/calendar_new/event/university-fair-for-grades-9-to-12-students-usa-france-germany-and-west-indies-universities/
CATEGORIES:Admin,Student,Teacher
END:VEVENT
BEGIN:VEVENT
DTSTART;VALUE=DATE:20250925
DTEND;VALUE=DATE:20250926
DTSTAMP:20260425T195428
CREATED:20250828T060112Z
LAST-MODIFIED:20250828T060112Z
UID:1643-1758758400-1758844799@www.lis.ac.in
SUMMARY:Interhouse Competition Tennis-Grades 3 to 5
DESCRIPTION:
URL:https://www.lis.ac.in/calendar_new/event/interhouse-competition-tennis-grades-3-to-5-2/
CATEGORIES:Admin,Student,Teacher
END:VEVENT
BEGIN:VEVENT
DTSTART;VALUE=DATE:20250925
DTEND;VALUE=DATE:20250926
DTSTAMP:20260425T195428
CREATED:20250828T060431Z
LAST-MODIFIED:20250828T060431Z
UID:1652-1758758400-1758844799@www.lis.ac.in
SUMMARY:Interhouse Competiton Grade 3-5 Current Affairs
DESCRIPTION:
URL:https://www.lis.ac.in/calendar_new/event/interhouse-competiton-grade-3-5-current-affairs/
CATEGORIES:Admin,Student,Teacher
END:VEVENT
BEGIN:VEVENT
DTSTART;VALUE=DATE:20250926
DTEND;VALUE=DATE:20250927
DTSTAMP:20260425T195428
CREATED:20250710T084922Z
LAST-MODIFIED:20250710T084922Z
UID:1398-1758844800-1758931199@www.lis.ac.in
SUMMARY:PYP 3-Way Conference for Early Years
DESCRIPTION:
URL:https://www.lis.ac.in/calendar_new/event/pyp-3-way-conference-for-early-years/
CATEGORIES:Admin,Student,Teacher
END:VEVENT
BEGIN:VEVENT
DTSTART;VALUE=DATE:20250926
DTEND;VALUE=DATE:20250927
DTSTAMP:20260425T195428
CREATED:20250710T085100Z
LAST-MODIFIED:20250710T085100Z
UID:1402-1758844800-1758931199@www.lis.ac.in
SUMMARY:PTM for Grade 11 and 12
DESCRIPTION:
URL:https://www.lis.ac.in/calendar_new/event/ptm-for-grade-11-and-12/
CATEGORIES:Admin,Student,Teacher
END:VEVENT
BEGIN:VEVENT
DTSTART;TZID=Asia/Kolkata:20250926T080000
DTEND;TZID=Asia/Kolkata:20250926T090000
DTSTAMP:20260425T195428
CREATED:20250811T165311Z
LAST-MODIFIED:20250908T110924Z
UID:1613-1758873600-1758877200@www.lis.ac.in
SUMMARY:Assembly Grades 10 to 12 -Curiosity: The Key to Lifelong Knowledge: Emphasize the role of curiosity in lifelong learning and discovery.
DESCRIPTION:
URL:https://www.lis.ac.in/calendar_new/event/curiosity-the-key-to-lifelong-knowledge-emphasize-the-role-of-curiosity-in-lifelong-learning-and-discovery/
CATEGORIES:Admin,Student,Teacher
END:VEVENT
BEGIN:VEVENT
DTSTART;VALUE=DATE:20250927
DTEND;VALUE=DATE:20250928
DTSTAMP:20260425T195428
CREATED:20250710T084959Z
LAST-MODIFIED:20250710T084959Z
UID:1400-1758931200-1759017599@www.lis.ac.in
SUMMARY:PYP 3-Way Conference for Grades 1 to 5
DESCRIPTION:
URL:https://www.lis.ac.in/calendar_new/event/pyp-3-way-conference-for-grades-1-to-5/
CATEGORIES:Admin,Student,Teacher
END:VEVENT
BEGIN:VEVENT
DTSTART;VALUE=DATE:20250927
DTEND;VALUE=DATE:20250928
DTSTAMP:20260425T195428
CREATED:20250710T085141Z
LAST-MODIFIED:20250710T085141Z
UID:1404-1758931200-1759017599@www.lis.ac.in
SUMMARY:PTM for Grades 1 to 10
DESCRIPTION:
URL:https://www.lis.ac.in/calendar_new/event/ptm-for-grades-1-to-10/
CATEGORIES:Admin,Student,Teacher
END:VEVENT
BEGIN:VEVENT
DTSTART;VALUE=DATE:20250929
DTEND;VALUE=DATE:20250930
DTSTAMP:20260425T195428
CREATED:20250710T085219Z
LAST-MODIFIED:20250710T085219Z
UID:1406-1759104000-1759190399@www.lis.ac.in
SUMMARY:Quarter 2 begins
DESCRIPTION:
URL:https://www.lis.ac.in/calendar_new/event/quarter-2-begins-3/
CATEGORIES:Admin,Student,Teacher
END:VEVENT
BEGIN:VEVENT
DTSTART;VALUE=DATE:20250929
DTEND;VALUE=DATE:20250930
DTSTAMP:20260425T195428
CREATED:20250710T085251Z
LAST-MODIFIED:20250710T085251Z
UID:1408-1759104000-1759190399@www.lis.ac.in
SUMMARY:Grade 6 Production
DESCRIPTION:
URL:https://www.lis.ac.in/calendar_new/event/grade-6-production-2/
CATEGORIES:Admin,Student,Teacher
END:VEVENT
BEGIN:VEVENT
DTSTART;VALUE=DATE:20250930
DTEND;VALUE=DATE:20251001
DTSTAMP:20260425T195428
CREATED:20250908T111344Z
LAST-MODIFIED:20250908T111501Z
UID:1681-1759190400-1759276799@www.lis.ac.in
SUMMARY:Little ABLE Concert
DESCRIPTION:
URL:https://www.lis.ac.in/calendar_new/event/little-able-concert-5/
CATEGORIES:Admin,Student,Teacher
END:VEVENT
BEGIN:VEVENT
DTSTART;TZID=Asia/Kolkata:20250930T080000
DTEND;TZID=Asia/Kolkata:20250930T090000
DTSTAMP:20260425T195428
CREATED:20250811T161909Z
LAST-MODIFIED:20250908T111753Z
UID:1596-1759219200-1759222800@www.lis.ac.in
SUMMARY:Assembly Grades 6 to 9-Unity in Diversity: Celebrating Cultures\, Building Peace
DESCRIPTION:
URL:https://www.lis.ac.in/calendar_new/event/unity-in-diversity-celebrating-cultures-building-peace/
CATEGORIES:Admin,Student,Teacher
END:VEVENT
BEGIN:VEVENT
DTSTART;VALUE=DATE:20251002
DTEND;VALUE=DATE:20251003
DTSTAMP:20260425T195428
CREATED:20250710T085325Z
LAST-MODIFIED:20250710T085344Z
UID:1410-1759363200-1759449599@www.lis.ac.in
SUMMARY:Mahatama Gandhi Jayanti/Dussehra
DESCRIPTION:
URL:https://www.lis.ac.in/calendar_new/event/mahatama-gandhi-jayanti/
CATEGORIES:Admin,Student,Teacher
END:VEVENT
BEGIN:VEVENT
DTSTART;VALUE=DATE:20251003
DTEND;VALUE=DATE:20251004
DTSTAMP:20260425T195428
CREATED:20250710T085638Z
LAST-MODIFIED:20250908T110550Z
UID:1419-1759449600-1759535999@www.lis.ac.in
SUMMARY:STEM Day-Assemby by Science and Math Department for Grades 10 to 12
DESCRIPTION:
URL:https://www.lis.ac.in/calendar_new/event/stem-day/
CATEGORIES:Admin,Student,Teacher
END:VEVENT
BEGIN:VEVENT
DTSTART;TZID=Asia/Kolkata:20251003T080000
DTEND;TZID=Asia/Kolkata:20251003T090000
DTSTAMP:20260425T195428
CREATED:20250927T152514Z
LAST-MODIFIED:20250927T152514Z
UID:1704-1759478400-1759482000@www.lis.ac.in
SUMMARY:Assembly Grades 10 to 12: STEM Day
DESCRIPTION:
URL:https://www.lis.ac.in/calendar_new/event/assembly-grades-10-to-12-stem-day/
CATEGORIES:Admin,Student,Teacher
END:VEVENT
BEGIN:VEVENT
DTSTART;TZID=Asia/Kolkata:20251007T080000
DTEND;TZID=Asia/Kolkata:20251007T090000
DTSTAMP:20260425T195428
CREATED:20250927T151643Z
LAST-MODIFIED:20250927T151643Z
UID:1692-1759824000-1759827600@www.lis.ac.in
SUMMARY:Grades 6-9 Assembly: World Humanitarian: Empathy in Action
DESCRIPTION:
URL:https://www.lis.ac.in/calendar_new/event/grades-6-9-assembly-world-humanitarian-empathy-in-action/
CATEGORIES:Admin,Student,Teacher
END:VEVENT
BEGIN:VEVENT
DTSTART;VALUE=DATE:20251009
DTEND;VALUE=DATE:20251010
DTSTAMP:20260425T195428
CREATED:20250710T085736Z
LAST-MODIFIED:20250710T085736Z
UID:1421-1759968000-1760054399@www.lis.ac.in
SUMMARY:Annual University Fair
DESCRIPTION:
URL:https://www.lis.ac.in/calendar_new/event/annual-university-fair-3/
CATEGORIES:Admin,Student,Teacher
END:VEVENT
BEGIN:VEVENT
DTSTART;TZID=Asia/Kolkata:20251010T080000
DTEND;TZID=Asia/Kolkata:20251010T090000
DTSTAMP:20260425T195428
CREATED:20250927T152902Z
LAST-MODIFIED:20250927T152902Z
UID:1708-1760083200-1760086800@www.lis.ac.in
SUMMARY:Assembly Grades 10 to 12: Session by Guest Speaker
DESCRIPTION:
URL:https://www.lis.ac.in/calendar_new/event/assembly-grades-10-to-12-session-by-guest-speaker/
CATEGORIES:Admin,Student,Teacher
END:VEVENT
BEGIN:VEVENT
DTSTART;VALUE=DATE:20251013
DTEND;VALUE=DATE:20251016
DTSTAMP:20260425T195428
CREATED:20250710T085424Z
LAST-MODIFIED:20250710T085424Z
UID:1413-1760313600-1760572799@www.lis.ac.in
SUMMARY:Inter-school Festival
DESCRIPTION:
URL:https://www.lis.ac.in/calendar_new/event/inter-school-festival-2/
CATEGORIES:Admin,Student,Teacher
END:VEVENT
BEGIN:VEVENT
DTSTART;VALUE=DATE:20251014
DTEND;VALUE=DATE:20251015
DTSTAMP:20260425T195428
CREATED:20251006T140500Z
LAST-MODIFIED:20251006T140500Z
UID:1721-1760400000-1760486399@www.lis.ac.in
SUMMARY:Diya making for Grade 1 and 2
DESCRIPTION:
URL:https://www.lis.ac.in/calendar_new/event/diya-making-for-grade-1-and-2/
CATEGORIES:Admin,Student,Teacher
END:VEVENT
BEGIN:VEVENT
DTSTART;VALUE=DATE:20251016
DTEND;VALUE=DATE:20251017
DTSTAMP:20260425T195428
CREATED:20251006T140617Z
LAST-MODIFIED:20251006T140617Z
UID:1723-1760572800-1760659199@www.lis.ac.in
SUMMARY:Group Singing for Grade 3-5
DESCRIPTION:
URL:https://www.lis.ac.in/calendar_new/event/group-singing-for-grade-3-5/
CATEGORIES:Admin,Student,Teacher
END:VEVENT
BEGIN:VEVENT
DTSTART;VALUE=DATE:20251017
DTEND;VALUE=DATE:20251018
DTSTAMP:20260425T195428
CREATED:20250710T085456Z
LAST-MODIFIED:20250710T085456Z
UID:1415-1760659200-1760745599@www.lis.ac.in
SUMMARY:Indian Festival
DESCRIPTION:
URL:https://www.lis.ac.in/calendar_new/event/indian-festival/
CATEGORIES:Admin,Student,Teacher
END:VEVENT
END:VCALENDAR