BEGIN:VCALENDAR
VERSION:2.0
PRODID:-//LIS Calendar - ECPv6.15.11//NONSGML v1.0//EN
CALSCALE:GREGORIAN
METHOD:PUBLISH
X-WR-CALNAME:LIS Calendar
X-ORIGINAL-URL:https://www.lis.ac.in/calendar_new
X-WR-CALDESC:Events for LIS Calendar
REFRESH-INTERVAL;VALUE=DURATION:PT1H
X-Robots-Tag:noindex
X-PUBLISHED-TTL:PT1H
BEGIN:VTIMEZONE
TZID:Asia/Kolkata
BEGIN:STANDARD
TZOFFSETFROM:+0530
TZOFFSETTO:+0530
TZNAME:IST
DTSTART:20240101T000000
END:STANDARD
END:VTIMEZONE
BEGIN:VEVENT
DTSTART;VALUE=DATE:20251013
DTEND;VALUE=DATE:20251016
DTSTAMP:20260425T183239
CREATED:20250710T085424Z
LAST-MODIFIED:20250710T085424Z
UID:1413-1760313600-1760572799@www.lis.ac.in
SUMMARY:Inter-school Festival
DESCRIPTION:
URL:https://www.lis.ac.in/calendar_new/event/inter-school-festival-2/
CATEGORIES:Admin,Student,Teacher
END:VEVENT
BEGIN:VEVENT
DTSTART;VALUE=DATE:20251014
DTEND;VALUE=DATE:20251015
DTSTAMP:20260425T183239
CREATED:20251006T140500Z
LAST-MODIFIED:20251006T140500Z
UID:1721-1760400000-1760486399@www.lis.ac.in
SUMMARY:Diya making for Grade 1 and 2
DESCRIPTION:
URL:https://www.lis.ac.in/calendar_new/event/diya-making-for-grade-1-and-2/
CATEGORIES:Admin,Student,Teacher
END:VEVENT
BEGIN:VEVENT
DTSTART;VALUE=DATE:20251016
DTEND;VALUE=DATE:20251017
DTSTAMP:20260425T183239
CREATED:20251006T140617Z
LAST-MODIFIED:20251006T140617Z
UID:1723-1760572800-1760659199@www.lis.ac.in
SUMMARY:Group Singing for Grade 3-5
DESCRIPTION:
URL:https://www.lis.ac.in/calendar_new/event/group-singing-for-grade-3-5/
CATEGORIES:Admin,Student,Teacher
END:VEVENT
BEGIN:VEVENT
DTSTART;VALUE=DATE:20251017
DTEND;VALUE=DATE:20251018
DTSTAMP:20260425T183239
CREATED:20250710T085456Z
LAST-MODIFIED:20250710T085456Z
UID:1415-1760659200-1760745599@www.lis.ac.in
SUMMARY:Indian Festival
DESCRIPTION:
URL:https://www.lis.ac.in/calendar_new/event/indian-festival/
CATEGORIES:Admin,Student,Teacher
END:VEVENT
BEGIN:VEVENT
DTSTART;TZID=Asia/Kolkata:20251017T080000
DTEND;TZID=Asia/Kolkata:20251017T090000
DTSTAMP:20260425T183239
CREATED:20250927T152641Z
LAST-MODIFIED:20250927T152641Z
UID:1706-1760688000-1760691600@www.lis.ac.in
SUMMARY:Assembly Grades 10 to 12: Indian Festival- Diwali celebrations
DESCRIPTION:
URL:https://www.lis.ac.in/calendar_new/event/assembly-grades-10-to-12-indian-festival-diwali-celebrations/
CATEGORIES:Admin,Student,Teacher
END:VEVENT
BEGIN:VEVENT
DTSTART;VALUE=DATE:20251018
DTEND;VALUE=DATE:20251025
DTSTAMP:20260425T183239
CREATED:20250710T085543Z
LAST-MODIFIED:20250710T085543Z
UID:1417-1760745600-1761350399@www.lis.ac.in
SUMMARY:Diwali Break
DESCRIPTION:
URL:https://www.lis.ac.in/calendar_new/event/diwali-break-6/
CATEGORIES:Admin,Student,Teacher
END:VEVENT
BEGIN:VEVENT
DTSTART;TZID=Asia/Kolkata:20251028T080000
DTEND;TZID=Asia/Kolkata:20251028T090000
DTSTAMP:20260425T183239
CREATED:20250927T151817Z
LAST-MODIFIED:20250927T151817Z
UID:1694-1761638400-1761642000@www.lis.ac.in
SUMMARY:Assembly Grades 6 to 9: Reflective Changemakers
DESCRIPTION:
URL:https://www.lis.ac.in/calendar_new/event/assembly-grades-6-to-9-reflective-changemakers/
CATEGORIES:Admin,Student,Teacher
END:VEVENT
BEGIN:VEVENT
DTSTART;VALUE=DATE:20251030
DTEND;VALUE=DATE:20251031
DTSTAMP:20260425T183239
CREATED:20250828T073641Z
LAST-MODIFIED:20250828T073641Z
UID:1654-1761782400-1761868799@www.lis.ac.in
SUMMARY:Interhouse Competition- Listen-Imagine-Draw (Grade 1 & 2)
DESCRIPTION:
URL:https://www.lis.ac.in/calendar_new/event/interhouse-competition-listen-imagine-draw-grade-1-2/
CATEGORIES:Admin,Student,Teacher
END:VEVENT
BEGIN:VEVENT
DTSTART;TZID=Asia/Kolkata:20251031T080000
DTEND;TZID=Asia/Kolkata:20251031T090000
DTSTAMP:20260425T183239
CREATED:20250927T153111Z
LAST-MODIFIED:20250927T153111Z
UID:1710-1761897600-1761901200@www.lis.ac.in
SUMMARY:Assembly Grades 10 to 12: Curiosity: The Key to Lifelong Knowledge:
DESCRIPTION:
URL:https://www.lis.ac.in/calendar_new/event/assembly-grades-10-to-12-curiosity-the-key-to-lifelong-knowledge/
CATEGORIES:Admin,Student,Teacher
END:VEVENT
BEGIN:VEVENT
DTSTART;VALUE=DATE:20251101
DTEND;VALUE=DATE:20251102
DTSTAMP:20260425T183239
CREATED:20250710T085828Z
LAST-MODIFIED:20250710T085828Z
UID:1423-1761955200-1762041599@www.lis.ac.in
SUMMARY:Haryana Day
DESCRIPTION:
URL:https://www.lis.ac.in/calendar_new/event/haryana-day-2/
CATEGORIES:Admin,Student,Teacher
END:VEVENT
BEGIN:VEVENT
DTSTART;VALUE=DATE:20251103
DTEND;VALUE=DATE:20251108
DTSTAMP:20260425T183239
CREATED:20250710T085937Z
LAST-MODIFIED:20250710T085937Z
UID:1425-1762128000-1762559999@www.lis.ac.in
SUMMARY:Week Without Walls (Grades 6-9)
DESCRIPTION:
URL:https://www.lis.ac.in/calendar_new/event/week-without-walls-grades-6-9/
CATEGORIES:Admin,Student,Teacher
END:VEVENT
BEGIN:VEVENT
DTSTART;TZID=Asia/Kolkata:20251104T080000
DTEND;TZID=Asia/Kolkata:20251104T090000
DTSTAMP:20260425T183239
CREATED:20250927T151925Z
LAST-MODIFIED:20250927T151925Z
UID:1696-1762243200-1762246800@www.lis.ac.in
SUMMARY:Grades 6 to 9 Assembly: Metacognition: How to Learn\, Unlearn\, and Relearn
DESCRIPTION:
URL:https://www.lis.ac.in/calendar_new/event/grades-6-to-9-assembly-metacognition-how-to-learn-unlearn-and-relearn/
CATEGORIES:Admin,Student,Teacher
END:VEVENT
BEGIN:VEVENT
DTSTART;VALUE=DATE:20251105
DTEND;VALUE=DATE:20251106
DTSTAMP:20260425T183239
CREATED:20250710T090011Z
LAST-MODIFIED:20250710T090011Z
UID:1427-1762300800-1762387199@www.lis.ac.in
SUMMARY:Guru Nanak Dev Jayanti
DESCRIPTION:
URL:https://www.lis.ac.in/calendar_new/event/guru-nanak-dev-jayanti-2/
CATEGORIES:Admin,Student,Teacher
END:VEVENT
BEGIN:VEVENT
DTSTART;TZID=Asia/Kolkata:20251107T080000
DTEND;TZID=Asia/Kolkata:20251107T090000
DTSTAMP:20260425T183239
CREATED:20250927T153355Z
LAST-MODIFIED:20250927T153355Z
UID:1712-1762502400-1762506000@www.lis.ac.in
SUMMARY:Assembly Grades Thinking Outside the Box: Creativity and Innovation
DESCRIPTION:
URL:https://www.lis.ac.in/calendar_new/event/assembly-grades-thinking-outside-the-box-creativity-and-innovation/
CATEGORIES:Admin,Student,Teacher
END:VEVENT
BEGIN:VEVENT
DTSTART;VALUE=DATE:20251108
DTEND;VALUE=DATE:20251109
DTSTAMP:20260425T183239
CREATED:20250710T090050Z
LAST-MODIFIED:20250710T090050Z
UID:1429-1762560000-1762646399@www.lis.ac.in
SUMMARY:SAT Exam
DESCRIPTION:
URL:https://www.lis.ac.in/calendar_new/event/sat-exam/
CATEGORIES:Admin,Student,Teacher
END:VEVENT
BEGIN:VEVENT
DTSTART;VALUE=DATE:20251110
DTEND;VALUE=DATE:20251115
DTSTAMP:20260425T183239
CREATED:20250710T090204Z
LAST-MODIFIED:20250710T090204Z
UID:1431-1762732800-1763164799@www.lis.ac.in
SUMMARY:Week Without Walls (Grades 10-12)
DESCRIPTION:
URL:https://www.lis.ac.in/calendar_new/event/week-without-walls-grades-10-12/
CATEGORIES:Admin,Student,Teacher
END:VEVENT
BEGIN:VEVENT
DTSTART;TZID=Asia/Kolkata:20251111T080000
DTEND;TZID=Asia/Kolkata:20251111T090000
DTSTAMP:20260425T183239
CREATED:20250927T152040Z
LAST-MODIFIED:20250927T152040Z
UID:1698-1762848000-1762851600@www.lis.ac.in
SUMMARY:Grades 6 to 9: Unity in Diversity: Celebrating Cultures\, Building Peace
DESCRIPTION:
URL:https://www.lis.ac.in/calendar_new/event/grades-6-to-9-unity-in-diversity-celebrating-cultures-building-peace/
CATEGORIES:Admin,Student,Teacher
END:VEVENT
BEGIN:VEVENT
DTSTART;TZID=Asia/Kolkata:20251114T080000
DTEND;TZID=Asia/Kolkata:20251114T090000
DTSTAMP:20260425T183239
CREATED:20250927T153517Z
LAST-MODIFIED:20250927T153517Z
UID:1714-1763107200-1763110800@www.lis.ac.in
SUMMARY:Assembly Grades 10 to 12: Children's Day Celebration
DESCRIPTION:
URL:https://www.lis.ac.in/calendar_new/event/assembly-grades-10-to-12-childrens-day-celebration/
CATEGORIES:Admin,Student,Teacher
END:VEVENT
BEGIN:VEVENT
DTSTART;VALUE=DATE:20251118
DTEND;VALUE=DATE:20251119
DTSTAMP:20260425T183239
CREATED:20251110T142140Z
LAST-MODIFIED:20251110T142256Z
UID:1728-1763424000-1763510399@www.lis.ac.in
SUMMARY:Competition-Story telling for Grade 1 and 2
DESCRIPTION:
URL:https://www.lis.ac.in/calendar_new/event/competition-story-telling-for-grade-1-and-2/
CATEGORIES:Admin,Student,Teacher
END:VEVENT
BEGIN:VEVENT
DTSTART;TZID=Asia/Kolkata:20251118T080000
DTEND;TZID=Asia/Kolkata:20251118T090000
DTSTAMP:20260425T183239
CREATED:20250927T152219Z
LAST-MODIFIED:20250927T152219Z
UID:1700-1763452800-1763456400@www.lis.ac.in
SUMMARY:Assembly Grades 6 to 9: International Youth Voice: Young Voices\, Big Impact
DESCRIPTION:
URL:https://www.lis.ac.in/calendar_new/event/assembly-grades-6-to-9-international-youth-voice-young-voices-big-impact/
CATEGORIES:Admin,Student,Teacher
END:VEVENT
BEGIN:VEVENT
DTSTART;VALUE=DATE:20251120
DTEND;VALUE=DATE:20251122
DTSTAMP:20260425T183239
CREATED:20250710T090310Z
LAST-MODIFIED:20250710T090310Z
UID:1435-1763596800-1763769599@www.lis.ac.in
SUMMARY:ABRSM Examinations
DESCRIPTION:
URL:https://www.lis.ac.in/calendar_new/event/abrsm-examinations/
CATEGORIES:Admin,Student,Teacher
END:VEVENT
BEGIN:VEVENT
DTSTART;VALUE=DATE:20251120
DTEND;VALUE=DATE:20251121
DTSTAMP:20260425T183239
CREATED:20251110T142403Z
LAST-MODIFIED:20251110T142403Z
UID:1731-1763596800-1763683199@www.lis.ac.in
SUMMARY:Coding Competition for Grade 3-5
DESCRIPTION:
URL:https://www.lis.ac.in/calendar_new/event/coding-competition-for-grade-3-5/
CATEGORIES:Admin,Student,Teacher
END:VEVENT
BEGIN:VEVENT
DTSTART;VALUE=DATE:20251121
DTEND;VALUE=DATE:20251122
DTSTAMP:20260425T183239
CREATED:20250710T090355Z
LAST-MODIFIED:20250710T090355Z
UID:1437-1763683200-1763769599@www.lis.ac.in
SUMMARY:Co-curricular Exhibition
DESCRIPTION:
URL:https://www.lis.ac.in/calendar_new/event/co-curricular-exhibition/
CATEGORIES:Admin,Student,Teacher
END:VEVENT
BEGIN:VEVENT
DTSTART;TZID=Asia/Kolkata:20251121T080000
DTEND;TZID=Asia/Kolkata:20251121T090000
DTSTAMP:20260425T183239
CREATED:20250927T153648Z
LAST-MODIFIED:20250927T153648Z
UID:1716-1763712000-1763715600@www.lis.ac.in
SUMMARY:Assembly Grades 10 to 12: Co-curricular Exhibition
DESCRIPTION:
URL:https://www.lis.ac.in/calendar_new/event/assembly-grades-10-to-12-co-curricular-exhibition/
CATEGORIES:Admin,Student,Teacher
END:VEVENT
BEGIN:VEVENT
DTSTART;VALUE=DATE:20251124
DTEND;VALUE=DATE:20251125
DTSTAMP:20260425T183239
CREATED:20251110T142452Z
LAST-MODIFIED:20251110T142452Z
UID:1733-1763942400-1764028799@www.lis.ac.in
SUMMARY:Gymnastics Competition-Grade 3
DESCRIPTION:
URL:https://www.lis.ac.in/calendar_new/event/gymnastics-competition-grade-3/
CATEGORIES:Admin,Student,Teacher
END:VEVENT
BEGIN:VEVENT
DTSTART;VALUE=DATE:20251125
DTEND;VALUE=DATE:20251126
DTSTAMP:20260425T183239
CREATED:20250710T090233Z
LAST-MODIFIED:20251125T065059Z
UID:1433-1764028800-1764115199@www.lis.ac.in
SUMMARY:African Festival
DESCRIPTION:
URL:https://www.lis.ac.in/calendar_new/event/african-festival/
CATEGORIES:Admin,Student,Teacher
END:VEVENT
BEGIN:VEVENT
DTSTART;VALUE=DATE:20251125
DTEND;VALUE=DATE:20251126
DTSTAMP:20260425T183239
CREATED:20251110T142547Z
LAST-MODIFIED:20251110T142547Z
UID:1735-1764028800-1764115199@www.lis.ac.in
SUMMARY:News Reading Competition for Grades 1-2
DESCRIPTION:
URL:https://www.lis.ac.in/calendar_new/event/news-reading-competition-for-grades-1-2/
CATEGORIES:Admin,Student,Teacher
END:VEVENT
BEGIN:VEVENT
DTSTART;TZID=Asia/Kolkata:20251125T080000
DTEND;TZID=Asia/Kolkata:20251125T090000
DTSTAMP:20260425T183239
CREATED:20250927T152402Z
LAST-MODIFIED:20250927T152402Z
UID:1702-1764057600-1764061200@www.lis.ac.in
SUMMARY:Assembly Grades 6 to 9: Exam Startegies and Stress Management
DESCRIPTION:
URL:https://www.lis.ac.in/calendar_new/event/assembly-grades-6-to-9-exam-startegies-and-stress-management/
CATEGORIES:Admin,Student,Teacher
END:VEVENT
BEGIN:VEVENT
DTSTART;VALUE=DATE:20251126
DTEND;VALUE=DATE:20251127
DTSTAMP:20260425T183239
CREATED:20250710T090515Z
LAST-MODIFIED:20250710T090515Z
UID:1441-1764115200-1764201599@www.lis.ac.in
SUMMARY:Grade 7 Production
DESCRIPTION:
URL:https://www.lis.ac.in/calendar_new/event/grade-7-production-2/
CATEGORIES:Admin,Student,Teacher
END:VEVENT
BEGIN:VEVENT
DTSTART;VALUE=DATE:20251127
DTEND;VALUE=DATE:20251128
DTSTAMP:20260425T183239
CREATED:20251110T142656Z
LAST-MODIFIED:20251110T142656Z
UID:1737-1764201600-1764287999@www.lis.ac.in
SUMMARY:Gymnastics Competition for Grade 1 and 2
DESCRIPTION:
URL:https://www.lis.ac.in/calendar_new/event/gymnastics-competition-for-grade-1-and-2/
CATEGORIES:Admin,Student,Teacher
END:VEVENT
END:VCALENDAR