BEGIN:VCALENDAR
VERSION:2.0
PRODID:-//LIS Calendar - ECPv6.15.11//NONSGML v1.0//EN
CALSCALE:GREGORIAN
METHOD:PUBLISH
X-ORIGINAL-URL:https://www.lis.ac.in/calendar_new
X-WR-CALDESC:Events for LIS Calendar
REFRESH-INTERVAL;VALUE=DURATION:PT1H
X-Robots-Tag:noindex
X-PUBLISHED-TTL:PT1H
BEGIN:VTIMEZONE
TZID:Asia/Kolkata
BEGIN:STANDARD
TZOFFSETFROM:+0530
TZOFFSETTO:+0530
TZNAME:IST
DTSTART:20240101T000000
END:STANDARD
END:VTIMEZONE
BEGIN:VEVENT
DTSTART;TZID=Asia/Kolkata:20250801T080000
DTEND;TZID=Asia/Kolkata:20250801T090000
DTSTAMP:20260425T163052
CREATED:20250811T162021Z
LAST-MODIFIED:20250811T162021Z
UID:1598-1754035200-1754038800@www.lis.ac.in
SUMMARY:Welcome Assembly-Grades 10 to 12
DESCRIPTION:
URL:https://www.lis.ac.in/calendar_new/event/welcome-assembly-grades-10-to-12/
CATEGORIES:Admin,Student,Teacher
END:VEVENT
BEGIN:VEVENT
DTSTART;VALUE=DATE:20250804
DTEND;VALUE=DATE:20250808
DTSTAMP:20260425T163052
CREATED:20250710T082136Z
LAST-MODIFIED:20250710T082136Z
UID:1370-1754265600-1754611199@www.lis.ac.in
SUMMARY:Coffee Morning-Middle& Senior School
DESCRIPTION:
URL:https://www.lis.ac.in/calendar_new/event/coffee-morning-middle-senior-school/
CATEGORIES:Admin,Student,Teacher
END:VEVENT
BEGIN:VEVENT
DTSTART;VALUE=DATE:20250804
DTEND;VALUE=DATE:20250809
DTSTAMP:20260425T163052
CREATED:20250710T082229Z
LAST-MODIFIED:20250710T082229Z
UID:1372-1754265600-1754697599@www.lis.ac.in
SUMMARY:Parent PYP Sessions
DESCRIPTION:
URL:https://www.lis.ac.in/calendar_new/event/parent-pyp-sessions/
CATEGORIES:Admin,Student,Teacher
END:VEVENT
BEGIN:VEVENT
DTSTART;TZID=Asia/Kolkata:20250804T080000
DTEND;TZID=Asia/Kolkata:20250804T090000
DTSTAMP:20260425T163052
CREATED:20250811T165720Z
LAST-MODIFIED:20250811T165720Z
UID:1617-1754294400-1754298000@www.lis.ac.in
SUMMARY:College Counselling Session
DESCRIPTION:
URL:https://www.lis.ac.in/calendar_new/event/college-counselling-session/
CATEGORIES:Admin,Student,Teacher
END:VEVENT
BEGIN:VEVENT
DTSTART;TZID=Asia/Kolkata:20250805T080000
DTEND;TZID=Asia/Kolkata:20250805T090000
DTSTAMP:20260425T163052
CREATED:20250811T160840Z
LAST-MODIFIED:20250811T160840Z
UID:1579-1754380800-1754384400@www.lis.ac.in
SUMMARY:Being Principled: Integrity in a Digital World IB Profile: Principled
DESCRIPTION:
URL:https://www.lis.ac.in/calendar_new/event/being-principled-integrity-in-a-digital-world-ib-profile-principled/
CATEGORIES:Admin,Student,Teacher
END:VEVENT
BEGIN:VEVENT
DTSTART;TZID=Asia/Kolkata:20250805T080000
DTEND;TZID=Asia/Kolkata:20250805T090000
DTSTAMP:20260425T163052
CREATED:20250811T165920Z
LAST-MODIFIED:20250811T165920Z
UID:1619-1754380800-1754384400@www.lis.ac.in
SUMMARY:Session on SOP by King's college London/ Durham for Grades 11 and 12
DESCRIPTION:
URL:https://www.lis.ac.in/calendar_new/event/session-on-sop-by-kings-college-london-durham-for-grades-11-and-12/
CATEGORIES:Admin,Student,Teacher
END:VEVENT
BEGIN:VEVENT
DTSTART;VALUE=DATE:20250807
DTEND;VALUE=DATE:20250809
DTSTAMP:20260425T163052
CREATED:20250710T082317Z
LAST-MODIFIED:20250710T082317Z
UID:1374-1754524800-1754697599@www.lis.ac.in
SUMMARY:Student Council Nominations
DESCRIPTION:
URL:https://www.lis.ac.in/calendar_new/event/student-council-nominations-3/
CATEGORIES:Admin,Student,Teacher
END:VEVENT
BEGIN:VEVENT
DTSTART;TZID=Asia/Kolkata:20250808T080000
DTEND;TZID=Asia/Kolkata:20250808T090000
DTSTAMP:20260425T163052
CREATED:20250811T162119Z
LAST-MODIFIED:20250811T162119Z
UID:1600-1754640000-1754643600@www.lis.ac.in
SUMMARY:Internet Safety and Cyberbullying: Educate about safe online behavior and caring for others in digital spaces
DESCRIPTION:
URL:https://www.lis.ac.in/calendar_new/event/internet-safety-and-cyberbullying-educate-about-safe-online-behavior-and-caring-for-others-in-digital-spaces/
CATEGORIES:Admin,Student,Teacher
END:VEVENT
BEGIN:VEVENT
DTSTART;VALUE=DATE:20250809
DTEND;VALUE=DATE:20250810
DTSTAMP:20260425T163052
CREATED:20250710T082344Z
LAST-MODIFIED:20250710T082344Z
UID:1376-1754697600-1754783999@www.lis.ac.in
SUMMARY:Rakshabandhan
DESCRIPTION:
URL:https://www.lis.ac.in/calendar_new/event/rakshabandhan-2/
CATEGORIES:Admin,Student,Teacher
END:VEVENT
BEGIN:VEVENT
DTSTART;VALUE=DATE:20250812
DTEND;VALUE=DATE:20250813
DTSTAMP:20260425T163052
CREATED:20250710T083207Z
LAST-MODIFIED:20250710T083207Z
UID:1378-1754956800-1755043199@www.lis.ac.in
SUMMARY:Library Day
DESCRIPTION:
URL:https://www.lis.ac.in/calendar_new/event/library-day/
CATEGORIES:Admin,Student,Teacher
END:VEVENT
BEGIN:VEVENT
DTSTART;TZID=Asia/Kolkata:20250812T080000
DTEND;TZID=Asia/Kolkata:20250812T090000
DTSTAMP:20260425T163052
CREATED:20250811T161101Z
LAST-MODIFIED:20250811T161101Z
UID:1581-1754985600-1754989200@www.lis.ac.in
SUMMARY:International Youth Day: Young Voices\, Big Impact
DESCRIPTION:
URL:https://www.lis.ac.in/calendar_new/event/international-youth-day-young-voices-big-impact/
CATEGORIES:Admin,Student,Teacher
END:VEVENT
BEGIN:VEVENT
DTSTART;VALUE=DATE:20250815
DTEND;VALUE=DATE:20250816
DTSTAMP:20260425T163052
CREATED:20250710T083255Z
LAST-MODIFIED:20250710T083255Z
UID:1380-1755216000-1755302399@www.lis.ac.in
SUMMARY:Independence Day
DESCRIPTION:
URL:https://www.lis.ac.in/calendar_new/event/independence-day-3/
CATEGORIES:Admin,Student,Teacher
END:VEVENT
BEGIN:VEVENT
DTSTART;VALUE=DATE:20250816
DTEND;VALUE=DATE:20250817
DTSTAMP:20260425T163052
CREATED:20250710T083348Z
LAST-MODIFIED:20250710T083348Z
UID:1382-1755302400-1755388799@www.lis.ac.in
SUMMARY:Janmashtami
DESCRIPTION:
URL:https://www.lis.ac.in/calendar_new/event/janmashtami-2/
CATEGORIES:Admin,Student,Teacher
END:VEVENT
BEGIN:VEVENT
DTSTART;VALUE=DATE:20250818
DTEND;VALUE=DATE:20250819
DTSTAMP:20260425T163052
CREATED:20250710T084523Z
LAST-MODIFIED:20250710T084523Z
UID:1386-1755475200-1755561599@www.lis.ac.in
SUMMARY:PYP Election Day
DESCRIPTION:
URL:https://www.lis.ac.in/calendar_new/event/pyp-election-day/
CATEGORIES:Admin,Student,Teacher
END:VEVENT
BEGIN:VEVENT
DTSTART;TZID=Asia/Kolkata:20250819T080000
DTEND;TZID=Asia/Kolkata:20250819T090000
DTSTAMP:20260425T163052
CREATED:20250811T161210Z
LAST-MODIFIED:20250811T161228Z
UID:1583-1755590400-1755594000@www.lis.ac.in
SUMMARY:World Humanitarian Day: Empathy in Action
DESCRIPTION:
URL:https://www.lis.ac.in/calendar_new/event/world-humanitarian-day-empathy-in-action/
CATEGORIES:Admin,Student,Teacher
END:VEVENT
BEGIN:VEVENT
DTSTART;TZID=Asia/Kolkata:20250819T080000
DTEND;TZID=Asia/Kolkata:20250819T090000
DTSTAMP:20260425T163052
CREATED:20250811T170028Z
LAST-MODIFIED:20250811T170028Z
UID:1621-1755590400-1755594000@www.lis.ac.in
SUMMARY:Interaction session with US Universities for Grades 11 and 12
DESCRIPTION:
URL:https://www.lis.ac.in/calendar_new/event/interaction-session-with-us-universities-for-grades-11-and-12/
CATEGORIES:Admin,Student,Teacher
END:VEVENT
BEGIN:VEVENT
DTSTART;VALUE=DATE:20250822
DTEND;VALUE=DATE:20250823
DTSTAMP:20260425T163052
CREATED:20250710T083501Z
LAST-MODIFIED:20250710T083501Z
UID:1384-1755820800-1755907199@www.lis.ac.in
SUMMARY:Investiture/Leadership Summit/Scholar Awards
DESCRIPTION:
URL:https://www.lis.ac.in/calendar_new/event/investiture-leadership-summit-scholar-awards/
CATEGORIES:Admin,Student,Teacher
END:VEVENT
BEGIN:VEVENT
DTSTART;VALUE=DATE:20250822
DTEND;VALUE=DATE:20250823
DTSTAMP:20260425T163052
CREATED:20250710T084601Z
LAST-MODIFIED:20250710T084601Z
UID:1388-1755820800-1755907199@www.lis.ac.in
SUMMARY:Water Fun Day (Grade 1-5)
DESCRIPTION:
URL:https://www.lis.ac.in/calendar_new/event/water-fun-day-grade-1-5/
CATEGORIES:Admin,Student,Teacher
END:VEVENT
BEGIN:VEVENT
DTSTART;TZID=Asia/Kolkata:20250822T080000
DTEND;TZID=Asia/Kolkata:20250822T090000
DTSTAMP:20260425T163052
CREATED:20250811T162253Z
LAST-MODIFIED:20250811T162253Z
UID:1602-1755849600-1755853200@www.lis.ac.in
SUMMARY:Thinking Outside the Box: Creativity and Innovation
DESCRIPTION:
URL:https://www.lis.ac.in/calendar_new/event/thinking-outside-the-box-creativity-and-innovation-5/
CATEGORIES:Admin,Student,Teacher
END:VEVENT
BEGIN:VEVENT
DTSTART;TZID=Asia/Kolkata:20250825T120000
DTEND;TZID=Asia/Kolkata:20250825T133000
DTSTAMP:20260425T163052
CREATED:20250811T170148Z
LAST-MODIFIED:20250811T170148Z
UID:1623-1756123200-1756128600@www.lis.ac.in
SUMMARY:KIC University Visit
DESCRIPTION:
URL:https://www.lis.ac.in/calendar_new/event/kic-university-visit/
CATEGORIES:Admin,Student,Teacher
END:VEVENT
BEGIN:VEVENT
DTSTART;TZID=Asia/Kolkata:20250826T080000
DTEND;TZID=Asia/Kolkata:20250826T090000
DTSTAMP:20260425T163052
CREATED:20250811T161337Z
LAST-MODIFIED:20250811T161337Z
UID:1585-1756195200-1756198800@www.lis.ac.in
SUMMARY:Reflective Changemakers IB Profile: Reflective
DESCRIPTION:
URL:https://www.lis.ac.in/calendar_new/event/reflective-changemakers-ib-profile-reflective/
CATEGORIES:Admin,Student,Teacher
END:VEVENT
BEGIN:VEVENT
DTSTART;VALUE=DATE:20250827
DTEND;VALUE=DATE:20250828
DTSTAMP:20260425T163052
CREATED:20250710T084642Z
LAST-MODIFIED:20250710T084642Z
UID:1390-1756252800-1756339199@www.lis.ac.in
SUMMARY:PYP Investiture Ceremony
DESCRIPTION:
URL:https://www.lis.ac.in/calendar_new/event/pyp-investiture-ceremony/
CATEGORIES:Admin,Student,Teacher
END:VEVENT
BEGIN:VEVENT
DTSTART;TZID=Asia/Kolkata:20250827T080000
DTEND;TZID=Asia/Kolkata:20250829T120000
DTSTAMP:20260425T163052
CREATED:20250826T030857Z
LAST-MODIFIED:20250826T030857Z
UID:1632-1756281600-1756468800@www.lis.ac.in
SUMMARY:Access USA Workshop
DESCRIPTION:
URL:https://www.lis.ac.in/calendar_new/event/access-usa-workshop/
CATEGORIES:Admin,Student,Teacher
END:VEVENT
BEGIN:VEVENT
DTSTART;TZID=Asia/Kolkata:20250829T080000
DTEND;TZID=Asia/Kolkata:20250829T090000
DTSTAMP:20260425T163052
CREATED:20250811T164831Z
LAST-MODIFIED:20250811T164831Z
UID:1605-1756454400-1756458000@www.lis.ac.in
SUMMARY:Academic honesty session- Extended Essay/Internal Assessment
DESCRIPTION:
URL:https://www.lis.ac.in/calendar_new/event/academic-honesty-session-extended-essay-internal-assessment/
CATEGORIES:Admin,Student,Teacher
END:VEVENT
BEGIN:VEVENT
DTSTART;TZID=Asia/Kolkata:20250902T080000
DTEND;TZID=Asia/Kolkata:20250902T090000
DTSTAMP:20260425T163052
CREATED:20250811T161457Z
LAST-MODIFIED:20250908T104135Z
UID:1587-1756800000-1756803600@www.lis.ac.in
SUMMARY:Assembly Grades 6-9 Risk-takers for Social Justice
DESCRIPTION:
URL:https://www.lis.ac.in/calendar_new/event/risk-takers-for-social-justice/
CATEGORIES:Admin,Student,Teacher
END:VEVENT
BEGIN:VEVENT
DTSTART;TZID=Asia/Kolkata:20250902T080000
DTEND;TZID=Asia/Kolkata:20250902T090000
DTSTAMP:20260425T163052
CREATED:20250826T031344Z
LAST-MODIFIED:20250826T031344Z
UID:1634-1756800000-1756803600@www.lis.ac.in
SUMMARY:University of Birmingham-Interaction with Grade 11 and 12 students
DESCRIPTION:
URL:https://www.lis.ac.in/calendar_new/event/university-of-birmingham-interaction-with-grade-11-and-12-students/
CATEGORIES:Admin,Student,Teacher
END:VEVENT
BEGIN:VEVENT
DTSTART;TZID=Asia/Kolkata:20250905T080000
DTEND;TZID=Asia/Kolkata:20250905T090000
DTSTAMP:20260425T163052
CREATED:20250811T164929Z
LAST-MODIFIED:20250908T104837Z
UID:1607-1757059200-1757062800@www.lis.ac.in
SUMMARY:Teachers Day Assembly - Role Models and Mentorship: Discuss the importance of role models/ teachers and mentors who embody knowledge and care
DESCRIPTION:
URL:https://www.lis.ac.in/calendar_new/event/role-models-and-mentorship-discuss-the-importance-of-role-models-teachers-and-mentors-who-embody-knowledge-and-care/
CATEGORIES:Admin,Student,Teacher
END:VEVENT
BEGIN:VEVENT
DTSTART;TZID=Asia/Kolkata:20250905T080000
DTEND;TZID=Asia/Kolkata:20250905T090000
DTSTAMP:20260425T163052
CREATED:20250811T170301Z
LAST-MODIFIED:20250811T170301Z
UID:1625-1757059200-1757062800@www.lis.ac.in
SUMMARY:Session on Essay Writing by Boston University
DESCRIPTION:
URL:https://www.lis.ac.in/calendar_new/event/session-on-essay-writing-by-boston-university/
CATEGORIES:Admin,Student,Teacher
END:VEVENT
BEGIN:VEVENT
DTSTART;TZID=Asia/Kolkata:20250909T080000
DTEND;TZID=Asia/Kolkata:20250909T090000
DTSTAMP:20260425T163052
CREATED:20250811T161553Z
LAST-MODIFIED:20250908T110402Z
UID:1590-1757404800-1757408400@www.lis.ac.in
SUMMARY:Assembly Grades 6 to 9- Metacognition: How to Learn\, Unlearn\, and Relearn IB Profile: Reflective
DESCRIPTION:
URL:https://www.lis.ac.in/calendar_new/event/metacognition-how-to-learn-unlearn-and-relearn-ib-profile-reflective/
CATEGORIES:Admin,Student,Teacher
END:VEVENT
BEGIN:VEVENT
DTSTART;VALUE=DATE:20250911
DTEND;VALUE=DATE:20250912
DTSTAMP:20260425T163052
CREATED:20250828T060153Z
LAST-MODIFIED:20250908T110434Z
UID:1645-1757548800-1757635199@www.lis.ac.in
SUMMARY:PYP Interhouse Competiton-Mental Math
DESCRIPTION:
URL:https://www.lis.ac.in/calendar_new/event/interhouse-competiton-mental-math/
CATEGORIES:Admin,Student,Teacher
END:VEVENT
END:VCALENDAR