BEGIN:VCALENDAR
VERSION:2.0
PRODID:-//LIS Calendar - ECPv6.15.11//NONSGML v1.0//EN
CALSCALE:GREGORIAN
METHOD:PUBLISH
X-ORIGINAL-URL:https://www.lis.ac.in/calendar_new
X-WR-CALDESC:Events for LIS Calendar
REFRESH-INTERVAL;VALUE=DURATION:PT1H
X-Robots-Tag:noindex
X-PUBLISHED-TTL:PT1H
BEGIN:VTIMEZONE
TZID:Asia/Kolkata
BEGIN:STANDARD
TZOFFSETFROM:+0530
TZOFFSETTO:+0530
TZNAME:IST
DTSTART:20240101T000000
END:STANDARD
END:VTIMEZONE
BEGIN:VEVENT
DTSTART;VALUE=DATE:20250320
DTEND;VALUE=DATE:20250321
DTSTAMP:20260425T085908
CREATED:20250120T102814Z
LAST-MODIFIED:20250120T102814Z
UID:1247-1742428800-1742515199@www.lis.ac.in
SUMMARY:Empathy as Leadership: How understanding  others makes you stronger
DESCRIPTION:
URL:https://www.lis.ac.in/calendar_new/event/empathy-as-leadership-how-understanding-others-makes-you-stronger/
CATEGORIES:Admin,Student,Teacher
END:VEVENT
BEGIN:VEVENT
DTSTART;VALUE=DATE:20250320
DTEND;VALUE=DATE:20250321
DTSTAMP:20260425T085908
CREATED:20250120T104610Z
LAST-MODIFIED:20250120T104610Z
UID:1293-1742428800-1742515199@www.lis.ac.in
SUMMARY:International Day of Happiness
DESCRIPTION:
URL:https://www.lis.ac.in/calendar_new/event/international-day-of-happiness/
CATEGORIES:Admin,Student,Teacher
END:VEVENT
BEGIN:VEVENT
DTSTART;VALUE=DATE:20250320
DTEND;VALUE=DATE:20250322
DTSTAMP:20260425T085908
CREATED:20250305T052942Z
LAST-MODIFIED:20250305T052942Z
UID:1326-1742428800-1742601599@www.lis.ac.in
SUMMARY:PYP Exhibition
DESCRIPTION:
URL:https://www.lis.ac.in/calendar_new/event/pyp-exhibition-4/
CATEGORIES:Admin,Student,Teacher
END:VEVENT
BEGIN:VEVENT
DTSTART;VALUE=DATE:20250320
DTEND;VALUE=DATE:20250321
DTSTAMP:20260425T085908
CREATED:20250305T053108Z
LAST-MODIFIED:20250305T053108Z
UID:1328-1742428800-1742515199@www.lis.ac.in
SUMMARY:Little ABLE Concert\, "The Spectrum of Joy"
DESCRIPTION:
URL:https://www.lis.ac.in/calendar_new/event/little-able-concert-the-spectrum-of-joy/
CATEGORIES:Admin,Student,Teacher
END:VEVENT
BEGIN:VEVENT
DTSTART;VALUE=DATE:20250321
DTEND;VALUE=DATE:20250323
DTSTAMP:20260425T085908
CREATED:20240618T100655Z
LAST-MODIFIED:20240618T100655Z
UID:1021-1742515200-1742687999@www.lis.ac.in
SUMMARY:PYP Exhibition
DESCRIPTION:
URL:https://www.lis.ac.in/calendar_new/event/pyp-exhibition-3/
CATEGORIES:Admin,Student,Teacher
END:VEVENT
BEGIN:VEVENT
DTSTART;VALUE=DATE:20250321
DTEND;VALUE=DATE:20250322
DTSTAMP:20260425T085908
CREATED:20240618T100805Z
LAST-MODIFIED:20240618T100805Z
UID:1024-1742515200-1742601599@www.lis.ac.in
SUMMARY:PYP PTM
DESCRIPTION:
URL:https://www.lis.ac.in/calendar_new/event/pyp-ptm-2/
CATEGORIES:Admin,Student,Teacher
END:VEVENT
BEGIN:VEVENT
DTSTART;VALUE=DATE:20250321
DTEND;VALUE=DATE:20250322
DTSTAMP:20260425T085908
CREATED:20250120T104059Z
LAST-MODIFIED:20250120T104059Z
UID:1277-1742515200-1742601599@www.lis.ac.in
SUMMARY:World Poetry Day
DESCRIPTION:
URL:https://www.lis.ac.in/calendar_new/event/world-poetry-day/
CATEGORIES:Admin,Student,Teacher
END:VEVENT
BEGIN:VEVENT
DTSTART;VALUE=DATE:20250322
DTEND;VALUE=DATE:20250323
DTSTAMP:20260425T085908
CREATED:20240618T100924Z
LAST-MODIFIED:20240618T100924Z
UID:1027-1742601600-1742687999@www.lis.ac.in
SUMMARY:Middle & SS PTM
DESCRIPTION:
URL:https://www.lis.ac.in/calendar_new/event/middle-ss-ptm-2/
CATEGORIES:Admin,Student,Teacher
END:VEVENT
BEGIN:VEVENT
DTSTART;VALUE=DATE:20250322
DTEND;VALUE=DATE:20250323
DTSTAMP:20260425T085908
CREATED:20250305T053239Z
LAST-MODIFIED:20250305T053239Z
UID:1330-1742601600-1742687999@www.lis.ac.in
SUMMARY:Professional Development for Teachers
DESCRIPTION:
URL:https://www.lis.ac.in/calendar_new/event/professional-development-for-teachers/
CATEGORIES:Admin,Student,Teacher
END:VEVENT
BEGIN:VEVENT
DTSTART;VALUE=DATE:20250324
DTEND;VALUE=DATE:20250325
DTSTAMP:20260425T085908
CREATED:20240618T101049Z
LAST-MODIFIED:20240618T101049Z
UID:1030-1742774400-1742860799@www.lis.ac.in
SUMMARY:Quarter 4 begins
DESCRIPTION:
URL:https://www.lis.ac.in/calendar_new/event/quarter-4-begins-2/
CATEGORIES:Admin,Student,Teacher
END:VEVENT
BEGIN:VEVENT
DTSTART;TZID=Asia/Kolkata:20250327T080000
DTEND;TZID=Asia/Kolkata:20250327T090000
DTSTAMP:20260425T085908
CREATED:20250305T045748Z
LAST-MODIFIED:20250305T045748Z
UID:1312-1743062400-1743066000@www.lis.ac.in
SUMMARY:3D Animation and VFX-Masterclass by Torrens University
DESCRIPTION:
URL:https://www.lis.ac.in/calendar_new/event/3d-animation-and-vfx-masterclass-by-torrens-university/
CATEGORIES:Admin,Student,Teacher
END:VEVENT
BEGIN:VEVENT
DTSTART;VALUE=DATE:20250329
DTEND;VALUE=DATE:20250330
DTSTAMP:20260425T085908
CREATED:20240618T101210Z
LAST-MODIFIED:20240618T101210Z
UID:1032-1743206400-1743292799@www.lis.ac.in
SUMMARY:DP Graduation
DESCRIPTION:
URL:https://www.lis.ac.in/calendar_new/event/dp-graduation/
CATEGORIES:Admin,Student,Teacher
END:VEVENT
BEGIN:VEVENT
DTSTART;VALUE=DATE:20250331
DTEND;VALUE=DATE:20250401
DTSTAMP:20260425T085908
CREATED:20240618T101353Z
LAST-MODIFIED:20240618T101353Z
UID:1034-1743379200-1743465599@www.lis.ac.in
SUMMARY:Eid Ul Fitr*
DESCRIPTION:
URL:https://www.lis.ac.in/calendar_new/event/eid-ul-fitr/
CATEGORIES:Admin,Student,Teacher
END:VEVENT
BEGIN:VEVENT
DTSTART;VALUE=DATE:20250406
DTEND;VALUE=DATE:20250407
DTSTAMP:20260425T085908
CREATED:20240618T101516Z
LAST-MODIFIED:20240618T101516Z
UID:1036-1743897600-1743983999@www.lis.ac.in
SUMMARY:Ram Navmi
DESCRIPTION:
URL:https://www.lis.ac.in/calendar_new/event/ram-navmi/
CATEGORIES:Admin,Student,Teacher
END:VEVENT
BEGIN:VEVENT
DTSTART;VALUE=DATE:20250409
DTEND;VALUE=DATE:20250410
DTSTAMP:20260425T085908
CREATED:20240618T101610Z
LAST-MODIFIED:20240618T101610Z
UID:1039-1744156800-1744243199@www.lis.ac.in
SUMMARY:Community Project Exhibition
DESCRIPTION:
URL:https://www.lis.ac.in/calendar_new/event/community-project-exhibition/
CATEGORIES:Admin,Student,Teacher
END:VEVENT
BEGIN:VEVENT
DTSTART;VALUE=DATE:20250410
DTEND;VALUE=DATE:20250411
DTSTAMP:20260425T085908
CREATED:20240618T101716Z
LAST-MODIFIED:20240618T103658Z
UID:1041-1744243200-1744329599@www.lis.ac.in
SUMMARY:Mahavir Jayanti
DESCRIPTION:
URL:https://www.lis.ac.in/calendar_new/event/mahavir-jayanti/
CATEGORIES:Admin,Student,Teacher
END:VEVENT
BEGIN:VEVENT
DTSTART;TZID=Asia/Kolkata:20250411T080000
DTEND;TZID=Asia/Kolkata:20250411T090000
DTSTAMP:20260425T085908
CREATED:20250416T071744Z
LAST-MODIFIED:20250416T071744Z
UID:1354-1744358400-1744362000@www.lis.ac.in
SUMMARY:World Health Day
DESCRIPTION:
URL:https://www.lis.ac.in/calendar_new/event/world-health-day/
CATEGORIES:Admin,Student,Teacher
END:VEVENT
BEGIN:VEVENT
DTSTART;VALUE=DATE:20250414
DTEND;VALUE=DATE:20250415
DTSTAMP:20260425T085908
CREATED:20240618T101904Z
LAST-MODIFIED:20240618T101904Z
UID:1044-1744588800-1744675199@www.lis.ac.in
SUMMARY:Dr Ambedkar Jayanti
DESCRIPTION:
URL:https://www.lis.ac.in/calendar_new/event/dr-ambedkar-jayanti/
CATEGORIES:Admin,Student,Teacher
END:VEVENT
BEGIN:VEVENT
DTSTART;TZID=Asia/Kolkata:20250417T080000
DTEND;TZID=Asia/Kolkata:20250417T090000
DTSTAMP:20260425T085908
CREATED:20250416T071128Z
LAST-MODIFIED:20250416T071128Z
UID:1344-1744876800-1744880400@www.lis.ac.in
SUMMARY:International Day of Happiness
DESCRIPTION:
URL:https://www.lis.ac.in/calendar_new/event/international-day-of-happiness-2/
CATEGORIES:Admin,Student,Teacher
END:VEVENT
BEGIN:VEVENT
DTSTART;TZID=Asia/Kolkata:20250417T140000
DTEND;TZID=Asia/Kolkata:20250417T150000
DTSTAMP:20260425T085908
CREATED:20250415T111422Z
LAST-MODIFIED:20250415T111422Z
UID:1342-1744898400-1744902000@www.lis.ac.in
SUMMARY:Dance Concert
DESCRIPTION:
URL:https://www.lis.ac.in/calendar_new/event/dance-concert/
CATEGORIES:Admin,Student,Teacher
END:VEVENT
BEGIN:VEVENT
DTSTART;VALUE=DATE:20250418
DTEND;VALUE=DATE:20250419
DTSTAMP:20260425T085908
CREATED:20240618T102113Z
LAST-MODIFIED:20240618T102113Z
UID:1046-1744934400-1745020799@www.lis.ac.in
SUMMARY:Good Friday
DESCRIPTION:
URL:https://www.lis.ac.in/calendar_new/event/good-friday/
CATEGORIES:Admin,Student,Teacher
END:VEVENT
BEGIN:VEVENT
DTSTART;VALUE=DATE:20250423
DTEND;VALUE=DATE:20250424
DTSTAMP:20260425T085908
CREATED:20240618T102242Z
LAST-MODIFIED:20240618T102242Z
UID:1049-1745366400-1745452799@www.lis.ac.in
SUMMARY:World Cultures Day
DESCRIPTION:
URL:https://www.lis.ac.in/calendar_new/event/world-cultures-day/
CATEGORIES:Admin,Student,Teacher
END:VEVENT
BEGIN:VEVENT
DTSTART;TZID=Asia/Kolkata:20250423T140000
DTEND;TZID=Asia/Kolkata:20250423T150000
DTSTAMP:20260425T085908
CREATED:20250416T073102Z
LAST-MODIFIED:20250416T073102Z
UID:1360-1745416800-1745420400@www.lis.ac.in
SUMMARY:Opus Infinity-Orchestra Performance
DESCRIPTION:
URL:https://www.lis.ac.in/calendar_new/event/opus-infinity-orchestra-performance/
CATEGORIES:Admin,Student,Teacher
END:VEVENT
BEGIN:VEVENT
DTSTART;TZID=Asia/Kolkata:20250424T080000
DTEND;TZID=Asia/Kolkata:20250424T090000
DTSTAMP:20260425T085908
CREATED:20250416T071215Z
LAST-MODIFIED:20250416T071215Z
UID:1346-1745481600-1745485200@www.lis.ac.in
SUMMARY:International Mother Earth Day
DESCRIPTION:
URL:https://www.lis.ac.in/calendar_new/event/international-mother-earth-day/
CATEGORIES:Admin,Student,Teacher
END:VEVENT
BEGIN:VEVENT
DTSTART;VALUE=DATE:20250430
DTEND;VALUE=DATE:20250501
DTSTAMP:20260425T085908
CREATED:20240618T102403Z
LAST-MODIFIED:20240618T103819Z
UID:1051-1745971200-1746057599@www.lis.ac.in
SUMMARY:Parshuram Jayanti
DESCRIPTION:
URL:https://www.lis.ac.in/calendar_new/event/parshuram-jayanti/
CATEGORIES:Admin,Student,Teacher
END:VEVENT
BEGIN:VEVENT
DTSTART;VALUE=DATE:20250501
DTEND;VALUE=DATE:20250503
DTSTAMP:20260425T085908
CREATED:20240618T102514Z
LAST-MODIFIED:20240618T102514Z
UID:1053-1746057600-1746230399@www.lis.ac.in
SUMMARY:Co-Curricular Exhibitions
DESCRIPTION:
URL:https://www.lis.ac.in/calendar_new/event/co-curricular-exhibitions-4/
CATEGORIES:Admin,Student,Teacher
END:VEVENT
BEGIN:VEVENT
DTSTART;TZID=Asia/Kolkata:20250501T080000
DTEND;TZID=Asia/Kolkata:20250501T090000
DTSTAMP:20260425T085908
CREATED:20250416T071323Z
LAST-MODIFIED:20250416T071323Z
UID:1348-1746086400-1746090000@www.lis.ac.in
SUMMARY:The Future of Work: Are We Ready?
DESCRIPTION:
URL:https://www.lis.ac.in/calendar_new/event/the-future-of-work-are-we-ready/
CATEGORIES:Admin,Student,Teacher
END:VEVENT
BEGIN:VEVENT
DTSTART;TZID=Asia/Kolkata:20250508T080000
DTEND;TZID=Asia/Kolkata:20250508T090000
DTSTAMP:20260425T085908
CREATED:20250416T071403Z
LAST-MODIFIED:20250416T071403Z
UID:1350-1746691200-1746694800@www.lis.ac.in
SUMMARY:Stress\, Struggle\, and Strength: Managing Academic Pressure
DESCRIPTION:
URL:https://www.lis.ac.in/calendar_new/event/stress-struggle-and-strength-managing-academic-pressure/
CATEGORIES:Admin,Student,Teacher
END:VEVENT
BEGIN:VEVENT
DTSTART;TZID=Asia/Kolkata:20250509T080000
DTEND;TZID=Asia/Kolkata:20250509T090000
DTSTAMP:20260425T085908
CREATED:20250416T071909Z
LAST-MODIFIED:20250416T071909Z
UID:1356-1746777600-1746781200@www.lis.ac.in
SUMMARY:The Masks We Wear: Authenticity in a Social Media World
DESCRIPTION:
URL:https://www.lis.ac.in/calendar_new/event/the-masks-we-wear-authenticity-in-a-social-media-world/
CATEGORIES:Admin,Student,Teacher
END:VEVENT
BEGIN:VEVENT
DTSTART;VALUE=DATE:20250512
DTEND;VALUE=DATE:20250513
DTSTAMP:20260425T085908
CREATED:20240618T102652Z
LAST-MODIFIED:20240618T102652Z
UID:1055-1747008000-1747094399@www.lis.ac.in
SUMMARY:Buddha Jayanti
DESCRIPTION:
URL:https://www.lis.ac.in/calendar_new/event/buddha-jayanti/
CATEGORIES:Admin,Student,Teacher
END:VEVENT
END:VCALENDAR