BEGIN:VCALENDAR
VERSION:2.0
PRODID:-//LIS Calendar - ECPv6.15.11//NONSGML v1.0//EN
CALSCALE:GREGORIAN
METHOD:PUBLISH
X-ORIGINAL-URL:https://www.lis.ac.in/calendar_new
X-WR-CALDESC:Events for LIS Calendar
REFRESH-INTERVAL;VALUE=DURATION:PT1H
X-Robots-Tag:noindex
X-PUBLISHED-TTL:PT1H
BEGIN:VTIMEZONE
TZID:Asia/Kolkata
BEGIN:STANDARD
TZOFFSETFROM:+0530
TZOFFSETTO:+0530
TZNAME:IST
DTSTART:20250101T000000
END:STANDARD
END:VTIMEZONE
BEGIN:VEVENT
DTSTART;VALUE=DATE:20260215
DTEND;VALUE=DATE:20260216
DTSTAMP:20260423T171913
CREATED:20250710T094102Z
LAST-MODIFIED:20250710T094102Z
UID:1484-1771113600-1771199999@www.lis.ac.in
SUMMARY:Mahashivratri
DESCRIPTION:
URL:https://www.lis.ac.in/calendar_new/event/mahashivratri-2/
CATEGORIES:Admin,Student,Teacher
END:VEVENT
BEGIN:VEVENT
DTSTART;TZID=Asia/Kolkata:20260217T080000
DTEND;TZID=Asia/Kolkata:20260217T090000
DTSTAMP:20260423T171913
CREATED:20260119T084424Z
LAST-MODIFIED:20260119T084424Z
UID:1755-1771315200-1771318800@www.lis.ac.in
SUMMARY:Assembly-Speaking the Truth: The Courage to Do What Is Right
DESCRIPTION:
URL:https://www.lis.ac.in/calendar_new/event/assembly-speaking-the-truth-the-courage-to-do-what-is-right/
CATEGORIES:Admin,Student,Teacher
END:VEVENT
BEGIN:VEVENT
DTSTART;VALUE=DATE:20260218
DTEND;VALUE=DATE:20260221
DTSTAMP:20260423T171913
CREATED:20250710T094149Z
LAST-MODIFIED:20250710T094149Z
UID:1486-1771372800-1771631999@www.lis.ac.in
SUMMARY:IB Continuum Evaluation Visit
DESCRIPTION:
URL:https://www.lis.ac.in/calendar_new/event/ib-continuum-evaluation-visit/
CATEGORIES:Admin,Student,Teacher
END:VEVENT
BEGIN:VEVENT
DTSTART;VALUE=DATE:20260223
DTEND;VALUE=DATE:20260224
DTSTAMP:20260423T171913
CREATED:20250710T101005Z
LAST-MODIFIED:20250710T101005Z
UID:1513-1771804800-1771891199@www.lis.ac.in
SUMMARY:Korean Festival
DESCRIPTION:
URL:https://www.lis.ac.in/calendar_new/event/korean-festival-2/
CATEGORIES:Admin,Student,Teacher
END:VEVENT
BEGIN:VEVENT
DTSTART;TZID=Asia/Kolkata:20260223T130000
DTEND;TZID=Asia/Kolkata:20260223T140000
DTSTAMP:20260423T171913
CREATED:20260220T111818Z
LAST-MODIFIED:20260220T111818Z
UID:1775-1771851600-1771855200@www.lis.ac.in
SUMMARY:Google+SCAD Workshop-Grades 9 to 12
DESCRIPTION:
URL:https://www.lis.ac.in/calendar_new/event/googlescad-workshop-grades-9-to-12/
CATEGORIES:Admin,Student,Teacher
END:VEVENT
BEGIN:VEVENT
DTSTART;VALUE=DATE:20260226
DTEND;VALUE=DATE:20260227
DTSTAMP:20260423T171913
CREATED:20250710T094244Z
LAST-MODIFIED:20250710T094244Z
UID:1488-1772064000-1772150399@www.lis.ac.in
SUMMARY:Japanese Festival
DESCRIPTION:
URL:https://www.lis.ac.in/calendar_new/event/japanese-festival/
CATEGORIES:Admin,Student,Teacher
END:VEVENT
BEGIN:VEVENT
DTSTART;VALUE=DATE:20260226
DTEND;VALUE=DATE:20260227
DTSTAMP:20260423T171913
CREATED:20250710T094819Z
LAST-MODIFIED:20250710T094819Z
UID:1490-1772064000-1772150399@www.lis.ac.in
SUMMARY:IBCP/DP Exhibition
DESCRIPTION:
URL:https://www.lis.ac.in/calendar_new/event/ibcp-dp-exhibition/
CATEGORIES:Admin,Student,Teacher
END:VEVENT
BEGIN:VEVENT
DTSTART;VALUE=DATE:20260226
DTEND;VALUE=DATE:20260227
DTSTAMP:20260423T171913
CREATED:20250710T095715Z
LAST-MODIFIED:20250710T095715Z
UID:1495-1772064000-1772150399@www.lis.ac.in
SUMMARY:Early Years Sports Day
DESCRIPTION:
URL:https://www.lis.ac.in/calendar_new/event/early-years-sports-day-2/
CATEGORIES:Admin,Student,Teacher
END:VEVENT
BEGIN:VEVENT
DTSTART;VALUE=DATE:20260227
DTEND;VALUE=DATE:20260228
DTSTAMP:20260423T171913
CREATED:20250710T095814Z
LAST-MODIFIED:20250710T095814Z
UID:1497-1772150400-1772236799@www.lis.ac.in
SUMMARY:Primary Sports Day
DESCRIPTION:
URL:https://www.lis.ac.in/calendar_new/event/primary-sports-day/
CATEGORIES:Admin,Student,Teacher
END:VEVENT
BEGIN:VEVENT
DTSTART;TZID=Asia/Kolkata:20260227T080000
DTEND;TZID=Asia/Kolkata:20260227T090000
DTSTAMP:20260423T171913
CREATED:20260119T085031Z
LAST-MODIFIED:20260119T085031Z
UID:1767-1772179200-1772182800@www.lis.ac.in
SUMMARY:Assembly-Metacognition: How to Learn\, Unlearn\, and Relearn
DESCRIPTION:
URL:https://www.lis.ac.in/calendar_new/event/assembly-metacognition-how-to-learn-unlearn-and-relearn/
CATEGORIES:Admin,Student,Teacher
END:VEVENT
BEGIN:VEVENT
DTSTART;VALUE=DATE:20260302
DTEND;VALUE=DATE:20260303
DTSTAMP:20260423T171913
CREATED:20250710T094859Z
LAST-MODIFIED:20250710T094948Z
UID:1492-1772409600-1772495999@www.lis.ac.in
SUMMARY:Personal Project Exhibition
DESCRIPTION:
URL:https://www.lis.ac.in/calendar_new/event/the-scholar-awards/
CATEGORIES:Admin,Student,Teacher
END:VEVENT
BEGIN:VEVENT
DTSTART;VALUE=DATE:20260303
DTEND;VALUE=DATE:20260304
DTSTAMP:20260423T171913
CREATED:20250710T095922Z
LAST-MODIFIED:20250710T095922Z
UID:1499-1772496000-1772582399@www.lis.ac.in
SUMMARY:Sports Day-Middle & Senior School
DESCRIPTION:
URL:https://www.lis.ac.in/calendar_new/event/sports-day-middle-senior-school/
CATEGORIES:Admin,Student,Teacher
END:VEVENT
BEGIN:VEVENT
DTSTART;VALUE=DATE:20260304
DTEND;VALUE=DATE:20260305
DTSTAMP:20260423T171913
CREATED:20250710T100408Z
LAST-MODIFIED:20250710T100408Z
UID:1501-1772582400-1772668799@www.lis.ac.in
SUMMARY:Holi
DESCRIPTION:
URL:https://www.lis.ac.in/calendar_new/event/holi-2/
CATEGORIES:Admin,Student,Teacher
END:VEVENT
BEGIN:VEVENT
DTSTART;VALUE=DATE:20260305
DTEND;VALUE=DATE:20260319
DTSTAMP:20260423T171913
CREATED:20250710T100817Z
LAST-MODIFIED:20250710T100817Z
UID:1507-1772668800-1773878399@www.lis.ac.in
SUMMARY:Mock Examinations
DESCRIPTION:
URL:https://www.lis.ac.in/calendar_new/event/mock-examinations/
CATEGORIES:Admin,Student,Teacher
END:VEVENT
BEGIN:VEVENT
DTSTART;VALUE=DATE:20260306
DTEND;VALUE=DATE:20260307
DTSTAMP:20260423T171913
CREATED:20260305T044133Z
LAST-MODIFIED:20260305T044133Z
UID:1778-1772755200-1772841599@www.lis.ac.in
SUMMARY:Japanese Festival
DESCRIPTION:
URL:https://www.lis.ac.in/calendar_new/event/japanese-festival-2/
CATEGORIES:Admin,Student,Teacher
END:VEVENT
BEGIN:VEVENT
DTSTART;TZID=Asia/Kolkata:20260310T080000
DTEND;TZID=Asia/Kolkata:20260310T090000
DTSTAMP:20260423T171913
CREATED:20260119T084612Z
LAST-MODIFIED:20260119T084612Z
UID:1759-1773129600-1773133200@www.lis.ac.in
SUMMARY:Assembly-Faith in Oneself: Believing You Can
DESCRIPTION:
URL:https://www.lis.ac.in/calendar_new/event/assembly-faith-in-oneself-believing-you-can/
CATEGORIES:Admin,Student,Teacher
END:VEVENT
BEGIN:VEVENT
DTSTART;VALUE=DATE:20260313
DTEND;VALUE=DATE:20260314
DTSTAMP:20260423T171913
CREATED:20260119T085112Z
LAST-MODIFIED:20260305T044017Z
UID:1769-1773360000-1773446399@www.lis.ac.in
SUMMARY:Grade 11- TOK Exhibition
DESCRIPTION:
URL:https://www.lis.ac.in/calendar_new/event/grade-11-tok-exhibition/
CATEGORIES:Admin,Student,Teacher
END:VEVENT
BEGIN:VEVENT
DTSTART;VALUE=DATE:20260313
DTEND;VALUE=DATE:20260314
DTSTAMP:20260423T171913
CREATED:20260305T044225Z
LAST-MODIFIED:20260305T044225Z
UID:1780-1773360000-1773446399@www.lis.ac.in
SUMMARY:International Math Day
DESCRIPTION:
URL:https://www.lis.ac.in/calendar_new/event/international-math-day/
CATEGORIES:Admin,Student,Teacher
END:VEVENT
BEGIN:VEVENT
DTSTART;TZID=Asia/Kolkata:20260316T080000
DTEND;TZID=Asia/Kolkata:20260317T090000
DTSTAMP:20260423T171913
CREATED:20260313T051100Z
LAST-MODIFIED:20260313T051331Z
UID:1785-1773648000-1773738000@www.lis.ac.in
SUMMARY:Guest Speaker Session- Artificial Intelligence (AI)\, and Global Interconnectedness (Grades 5-8)
DESCRIPTION:
URL:https://www.lis.ac.in/calendar_new/event/guest-speaker-session-artificial-intelligence-ai-and-global-interconnectedness/
CATEGORIES:Admin,Student,Teacher
END:VEVENT
BEGIN:VEVENT
DTSTART;VALUE=DATE:20260317
DTEND;VALUE=DATE:20260318
DTSTAMP:20260423T171913
CREATED:20250710T100503Z
LAST-MODIFIED:20250710T100503Z
UID:1503-1773705600-1773791999@www.lis.ac.in
SUMMARY:Grade 8 Production
DESCRIPTION:
URL:https://www.lis.ac.in/calendar_new/event/grade-8-production-2/
CATEGORIES:Admin,Student,Teacher
END:VEVENT
BEGIN:VEVENT
DTSTART;VALUE=DATE:20260318
DTEND;VALUE=DATE:20260319
DTSTAMP:20260423T171913
CREATED:20250710T100548Z
LAST-MODIFIED:20250710T100650Z
UID:1505-1773792000-1773878399@www.lis.ac.in
SUMMARY:Little ABLE Concert 3
DESCRIPTION:
URL:https://www.lis.ac.in/calendar_new/event/little-able-concert-3-2/
CATEGORIES:Admin,Student,Teacher
END:VEVENT
BEGIN:VEVENT
DTSTART;VALUE=DATE:20260319
DTEND;VALUE=DATE:20260320
DTSTAMP:20260423T171913
CREATED:20250710T100936Z
LAST-MODIFIED:20250710T100936Z
UID:1511-1773878400-1773964799@www.lis.ac.in
SUMMARY:Eid-Ul-Fitr
DESCRIPTION:
URL:https://www.lis.ac.in/calendar_new/event/eid-ul-fitr-2/
CATEGORIES:Admin,Student,Teacher
END:VEVENT
BEGIN:VEVENT
DTSTART;TZID=Asia/Kolkata:20260320T080000
DTEND;TZID=Asia/Kolkata:20260320T090000
DTSTAMP:20260423T171913
CREATED:20260119T085209Z
LAST-MODIFIED:20260119T085209Z
UID:1771-1773993600-1773997200@www.lis.ac.in
SUMMARY:Assembly-International Day of Happiness
DESCRIPTION:
URL:https://www.lis.ac.in/calendar_new/event/assembly-international-day-of-happiness/
CATEGORIES:Admin,Student,Teacher
END:VEVENT
BEGIN:VEVENT
DTSTART;VALUE=DATE:20260323
DTEND;VALUE=DATE:20260324
DTSTAMP:20260423T171913
CREATED:20260119T084703Z
LAST-MODIFIED:20260119T084703Z
UID:1761-1774224000-1774310399@www.lis.ac.in
SUMMARY:Korean Festival
DESCRIPTION:
URL:https://www.lis.ac.in/calendar_new/event/korean-festival-3/
CATEGORIES:Admin,Student,Teacher
END:VEVENT
BEGIN:VEVENT
DTSTART;TZID=Asia/Kolkata:20260323T080000
DTEND;TZID=Asia/Kolkata:20260324T090000
DTSTAMP:20260423T171913
CREATED:20260313T051613Z
LAST-MODIFIED:20260313T051613Z
UID:1789-1774252800-1774342800@www.lis.ac.in
SUMMARY:Guest Speaker Session- Artificial Intelligence (AI)\, and Global Interconnectedness (Grades 9 and11)
DESCRIPTION:
URL:https://www.lis.ac.in/calendar_new/event/guest-speaker-session-artificial-intelligence-ai-and-global-interconnectedness-grades-9-and11/
CATEGORIES:Admin,Student,Teacher
END:VEVENT
BEGIN:VEVENT
DTSTART;VALUE=DATE:20260325
DTEND;VALUE=DATE:20260326
DTSTAMP:20260423T171913
CREATED:20250710T101052Z
LAST-MODIFIED:20260305T044335Z
UID:1515-1774396800-1774483199@www.lis.ac.in
SUMMARY:MYP Goal Project Submission
DESCRIPTION:
URL:https://www.lis.ac.in/calendar_new/event/myp-goad-project-submission/
CATEGORIES:Admin,Student,Teacher
END:VEVENT
BEGIN:VEVENT
DTSTART;TZID=Asia/Kolkata:20260325T080000
DTEND;TZID=Asia/Kolkata:20260325T090000
DTSTAMP:20260423T171913
CREATED:20260313T051712Z
LAST-MODIFIED:20260313T051712Z
UID:1791-1774425600-1774429200@www.lis.ac.in
SUMMARY:Guest Speaker Session- Artificial Intelligence (AI)\, and Global Interconnectedness (Grades 5-11)
DESCRIPTION:
URL:https://www.lis.ac.in/calendar_new/event/guest-speaker-session-artificial-intelligence-ai-and-global-interconnectedness-grades-5-11/
CATEGORIES:Admin,Student,Teacher
END:VEVENT
BEGIN:VEVENT
DTSTART;VALUE=DATE:20260326
DTEND;VALUE=DATE:20260327
DTSTAMP:20260423T171913
CREATED:20250710T101133Z
LAST-MODIFIED:20250710T101133Z
UID:1517-1774483200-1774569599@www.lis.ac.in
SUMMARY:Ram Navami
DESCRIPTION:
URL:https://www.lis.ac.in/calendar_new/event/ram-navami/
CATEGORIES:Admin,Student,Teacher
END:VEVENT
BEGIN:VEVENT
DTSTART;VALUE=DATE:20260327
DTEND;VALUE=DATE:20260328
DTSTAMP:20260423T171913
CREATED:20250710T101336Z
LAST-MODIFIED:20250710T101336Z
UID:1519-1774569600-1774655999@www.lis.ac.in
SUMMARY:PTM for Grade 11 and 12
DESCRIPTION:
URL:https://www.lis.ac.in/calendar_new/event/ptm-for-grade-11-and-12-2/
CATEGORIES:Admin,Student,Teacher
END:VEVENT
BEGIN:VEVENT
DTSTART;VALUE=DATE:20260327
DTEND;VALUE=DATE:20260328
DTSTAMP:20260423T171913
CREATED:20250710T101419Z
LAST-MODIFIED:20250710T101419Z
UID:1521-1774569600-1774655999@www.lis.ac.in
SUMMARY:Student-Led Conference for Early Years
DESCRIPTION:
URL:https://www.lis.ac.in/calendar_new/event/student-led-conference-for-early-years/
CATEGORIES:Admin,Student,Teacher
END:VEVENT
END:VCALENDAR