BEGIN:VCALENDAR
VERSION:2.0
PRODID:-//LIS Calendar - ECPv6.15.11//NONSGML v1.0//EN
CALSCALE:GREGORIAN
METHOD:PUBLISH
X-ORIGINAL-URL:https://www.lis.ac.in/calendar_new
X-WR-CALDESC:Events for LIS Calendar
REFRESH-INTERVAL;VALUE=DURATION:PT1H
X-Robots-Tag:noindex
X-PUBLISHED-TTL:PT1H
BEGIN:VTIMEZONE
TZID:Asia/Kolkata
BEGIN:STANDARD
TZOFFSETFROM:+0530
TZOFFSETTO:+0530
TZNAME:IST
DTSTART:20230101T000000
END:STANDARD
END:VTIMEZONE
BEGIN:VEVENT
DTSTART;TZID=Asia/Kolkata:20240827T080000
DTEND;TZID=Asia/Kolkata:20240827T090000
DTSTAMP:20260424T174430
CREATED:20240822T164834Z
LAST-MODIFIED:20240822T164834Z
UID:1102-1724745600-1724749200@www.lis.ac.in
SUMMARY:College Counselor Session With Grade XI (DP/CP)
DESCRIPTION:
URL:https://www.lis.ac.in/calendar_new/event/college-counselor-session-with-grade-xi-dp-cp/
CATEGORIES:Admin,Student,Teacher
END:VEVENT
BEGIN:VEVENT
DTSTART;TZID=Asia/Kolkata:20240828T080000
DTEND;TZID=Asia/Kolkata:20240828T090000
DTSTAMP:20260424T174430
CREATED:20240831T081308Z
LAST-MODIFIED:20240831T081308Z
UID:1115-1724832000-1724835600@www.lis.ac.in
SUMMARY:A Morning with Principal-Grade 8
DESCRIPTION:
URL:https://www.lis.ac.in/calendar_new/event/a-morning-with-principal-grade-8/
CATEGORIES:Admin,Student,Teacher
END:VEVENT
BEGIN:VEVENT
DTSTART;TZID=Asia/Kolkata:20240828T090000
DTEND;TZID=Asia/Kolkata:20240828T100000
DTSTAMP:20260424T174430
CREATED:20240822T165041Z
LAST-MODIFIED:20240822T165041Z
UID:1104-1724835600-1724839200@www.lis.ac.in
SUMMARY:Session on Deleting the Genome by Prof. Jeremy from University College Dublin
DESCRIPTION:
URL:https://www.lis.ac.in/calendar_new/event/session-on-deleting-the-genome-by-prof-jeremy-from-university-college-dublin/
CATEGORIES:Admin,Student,Teacher
END:VEVENT
BEGIN:VEVENT
DTSTART;VALUE=DATE:20240829
DTEND;VALUE=DATE:20240830
DTSTAMP:20260424T174430
CREATED:20241010T111235Z
LAST-MODIFIED:20241010T111235Z
UID:1187-1724889600-1724975999@www.lis.ac.in
SUMMARY:Playmate for a Day by Grade 3 students for BASS Foundation
DESCRIPTION:
URL:https://www.lis.ac.in/calendar_new/event/playmate-for-a-day-by-grade-3-students-for-bass-foundation/
CATEGORIES:Admin,Student,Teacher
END:VEVENT
BEGIN:VEVENT
DTSTART;TZID=Asia/Kolkata:20240829T080000
DTEND;TZID=Asia/Kolkata:20240829T090000
DTSTAMP:20260424T174430
CREATED:20240831T081336Z
LAST-MODIFIED:20240831T081336Z
UID:1117-1724918400-1724922000@www.lis.ac.in
SUMMARY:A Morning with Principal-Grade 9
DESCRIPTION:
URL:https://www.lis.ac.in/calendar_new/event/a-morning-with-principal-grade-9/
CATEGORIES:Admin,Student,Teacher
END:VEVENT
BEGIN:VEVENT
DTSTART;VALUE=DATE:20240830
DTEND;VALUE=DATE:20240831
DTSTAMP:20260424T174430
CREATED:20240805T051345Z
LAST-MODIFIED:20240805T051345Z
UID:1079-1724976000-1725062399@www.lis.ac.in
SUMMARY:KIC University Visit-Grades 9-12
DESCRIPTION:
URL:https://www.lis.ac.in/calendar_new/event/kic-university-visit-grades-9-12/
CATEGORIES:Admin,Student,Teacher
END:VEVENT
BEGIN:VEVENT
DTSTART;TZID=Asia/Kolkata:20240830T080000
DTEND;TZID=Asia/Kolkata:20240830T090000
DTSTAMP:20260424T174430
CREATED:20240822T165131Z
LAST-MODIFIED:20240822T165131Z
UID:1106-1725004800-1725008400@www.lis.ac.in
SUMMARY:KIC Uniassist Fair
DESCRIPTION:
URL:https://www.lis.ac.in/calendar_new/event/kic-uniassist-fair/
CATEGORIES:Admin,Student,Teacher
END:VEVENT
BEGIN:VEVENT
DTSTART;TZID=Asia/Kolkata:20240831T093000
DTEND;TZID=Asia/Kolkata:20240831T103000
DTSTAMP:20260424T174430
CREATED:20240831T081438Z
LAST-MODIFIED:20240831T081438Z
UID:1120-1725096600-1725100200@www.lis.ac.in
SUMMARY:A Morning with Principal-Grade 10
DESCRIPTION:
URL:https://www.lis.ac.in/calendar_new/event/a-morning-with-principal-grade-10/
CATEGORIES:Admin,Student,Teacher
END:VEVENT
BEGIN:VEVENT
DTSTART;TZID=Asia/Kolkata:20240831T103000
DTEND;TZID=Asia/Kolkata:20240831T113000
DTSTAMP:20260424T174430
CREATED:20240831T081514Z
LAST-MODIFIED:20240831T081514Z
UID:1122-1725100200-1725103800@www.lis.ac.in
SUMMARY:A Morning with Principal-Grades 11 & 12
DESCRIPTION:
URL:https://www.lis.ac.in/calendar_new/event/a-morning-with-principal-grades-11-12/
CATEGORIES:Admin,Student,Teacher
END:VEVENT
BEGIN:VEVENT
DTSTART;VALUE=DATE:20240903
DTEND;VALUE=DATE:20240904
DTSTAMP:20260424T174430
CREATED:20240805T063416Z
LAST-MODIFIED:20240805T063416Z
UID:1097-1725321600-1725407999@www.lis.ac.in
SUMMARY:Expert talk by Manchester Prof on Physics for Grades 10-12
DESCRIPTION:
URL:https://www.lis.ac.in/calendar_new/event/expert-talk-by-manchester-prof-on-physics-for-grades-10-12/
CATEGORIES:Admin,Student,Teacher
END:VEVENT
BEGIN:VEVENT
DTSTART;TZID=Asia/Kolkata:20240903T080000
DTEND;TZID=Asia/Kolkata:20240903T100000
DTSTAMP:20260424T174430
CREATED:20240822T165301Z
LAST-MODIFIED:20240822T165301Z
UID:1108-1725350400-1725357600@www.lis.ac.in
SUMMARY:Session on "Angular Momentum and Spin in the Real World " by Prof Craft from the  Manchester University
DESCRIPTION:
URL:https://www.lis.ac.in/calendar_new/event/session-on-angular-momentum-and-spin-in-the-real-world-by-prof-craft-from-the-manchester-university/
CATEGORIES:Admin,Student,Teacher
END:VEVENT
BEGIN:VEVENT
DTSTART;VALUE=DATE:20240905
DTEND;VALUE=DATE:20240906
DTSTAMP:20260424T174430
CREATED:20241010T111328Z
LAST-MODIFIED:20241010T111328Z
UID:1189-1725494400-1725580799@www.lis.ac.in
SUMMARY:Yoga Day by Grade 4 Students
DESCRIPTION:
URL:https://www.lis.ac.in/calendar_new/event/yoga-day-by-grade-4-students/
CATEGORIES:Admin,Student,Teacher
END:VEVENT
BEGIN:VEVENT
DTSTART;TZID=Asia/Kolkata:20240910T080000
DTEND;TZID=Asia/Kolkata:20240910T090000
DTSTAMP:20260424T174430
CREATED:20240905T051504Z
LAST-MODIFIED:20240905T051504Z
UID:1124-1725955200-1725958800@www.lis.ac.in
SUMMARY:Harvard Debate League - Orientation session
DESCRIPTION:
URL:https://www.lis.ac.in/calendar_new/event/harvard-debate-league-orientation-session/
CATEGORIES:Admin,Student,Teacher
END:VEVENT
BEGIN:VEVENT
DTSTART;VALUE=DATE:20240911
DTEND;VALUE=DATE:20240912
DTSTAMP:20260424T174430
CREATED:20241010T111430Z
LAST-MODIFIED:20241010T111430Z
UID:1191-1726012800-1726099199@www.lis.ac.in
SUMMARY:Clean Drive by PYP Student Council
DESCRIPTION:
URL:https://www.lis.ac.in/calendar_new/event/clean-drive-by-pyp-student-council/
CATEGORIES:Admin,Student,Teacher
END:VEVENT
BEGIN:VEVENT
DTSTART;VALUE=DATE:20240916
DTEND;VALUE=DATE:20240917
DTSTAMP:20260424T174430
CREATED:20240618T071305Z
LAST-MODIFIED:20240618T071305Z
UID:913-1726444800-1726531199@www.lis.ac.in
SUMMARY:Eid-A-Milad*
DESCRIPTION:
URL:https://www.lis.ac.in/calendar_new/event/eid-a-milad/
CATEGORIES:Admin,Student,Teacher
END:VEVENT
BEGIN:VEVENT
DTSTART;VALUE=DATE:20240920
DTEND;VALUE=DATE:20240921
DTSTAMP:20260424T174430
CREATED:20241010T111512Z
LAST-MODIFIED:20241010T111603Z
UID:1193-1726790400-1726876799@www.lis.ac.in
SUMMARY:Arts for A Cause by Grade 2 Students and Avacayam
DESCRIPTION:
URL:https://www.lis.ac.in/calendar_new/event/arts-for-a-cause-by-grade-2-students/
CATEGORIES:Admin,Student,Teacher
END:VEVENT
BEGIN:VEVENT
DTSTART;VALUE=DATE:20240924
DTEND;VALUE=DATE:20240925
DTSTAMP:20260424T174430
CREATED:20240618T071422Z
LAST-MODIFIED:20240618T071422Z
UID:917-1727136000-1727222399@www.lis.ac.in
SUMMARY:Annual University Connect
DESCRIPTION:
URL:https://www.lis.ac.in/calendar_new/event/annual-university-connect/
CATEGORIES:Admin,Student,Teacher
END:VEVENT
BEGIN:VEVENT
DTSTART;VALUE=DATE:20240924
DTEND;VALUE=DATE:20240925
DTSTAMP:20260424T174430
CREATED:20240805T063444Z
LAST-MODIFIED:20240805T063453Z
UID:1099-1727136000-1727222399@www.lis.ac.in
SUMMARY:Annual University Fair
DESCRIPTION:
URL:https://www.lis.ac.in/calendar_new/event/annual-university-fair-2/
CATEGORIES:Admin,Student,Teacher
END:VEVENT
BEGIN:VEVENT
DTSTART;VALUE=DATE:20240927
DTEND;VALUE=DATE:20240928
DTSTAMP:20260424T174430
CREATED:20241010T111659Z
LAST-MODIFIED:20241010T111659Z
UID:1196-1727395200-1727481599@www.lis.ac.in
SUMMARY:Power Savers by Grade 5 Students
DESCRIPTION:
URL:https://www.lis.ac.in/calendar_new/event/power-savers-by-grade-5-students/
CATEGORIES:Admin,Student,Teacher
END:VEVENT
BEGIN:VEVENT
DTSTART;VALUE=DATE:20240928
DTEND;VALUE=DATE:20240929
DTSTAMP:20260424T174430
CREATED:20240618T071604Z
LAST-MODIFIED:20240618T071604Z
UID:920-1727481600-1727567999@www.lis.ac.in
SUMMARY:Student-Led Conference
DESCRIPTION:
URL:https://www.lis.ac.in/calendar_new/event/student-led-conference-2/
CATEGORIES:Admin,Student,Teacher
END:VEVENT
BEGIN:VEVENT
DTSTART;VALUE=DATE:20241002
DTEND;VALUE=DATE:20241003
DTSTAMP:20260424T174430
CREATED:20240618T072439Z
LAST-MODIFIED:20240618T072439Z
UID:922-1727827200-1727913599@www.lis.ac.in
SUMMARY:Gandhi Jayanti
DESCRIPTION:
URL:https://www.lis.ac.in/calendar_new/event/gandhi-jayanti/
CATEGORIES:Admin,Student,Teacher
END:VEVENT
BEGIN:VEVENT
DTSTART;VALUE=DATE:20241004
DTEND;VALUE=DATE:20241005
DTSTAMP:20260424T174430
CREATED:20240618T072538Z
LAST-MODIFIED:20240618T072538Z
UID:925-1728000000-1728086399@www.lis.ac.in
SUMMARY:Little ABLE Concert
DESCRIPTION:
URL:https://www.lis.ac.in/calendar_new/event/little-able-concert-4/
CATEGORIES:Admin,Student,Teacher
END:VEVENT
BEGIN:VEVENT
DTSTART;VALUE=DATE:20241005
DTEND;VALUE=DATE:20241006
DTSTAMP:20260424T174430
CREATED:20240618T072657Z
LAST-MODIFIED:20240618T072657Z
UID:928-1728086400-1728172799@www.lis.ac.in
SUMMARY:PTM/Student-Led-Conference
DESCRIPTION:
URL:https://www.lis.ac.in/calendar_new/event/ptm-student-led-conference/
CATEGORIES:Admin,Student,Teacher
END:VEVENT
BEGIN:VEVENT
DTSTART;VALUE=DATE:20241007
DTEND;VALUE=DATE:20241008
DTSTAMP:20260424T174430
CREATED:20240618T072804Z
LAST-MODIFIED:20240618T072804Z
UID:930-1728259200-1728345599@www.lis.ac.in
SUMMARY:Quarter 2 begins
DESCRIPTION:
URL:https://www.lis.ac.in/calendar_new/event/quarter-2-begins-2/
CATEGORIES:Admin,Student,Teacher
END:VEVENT
BEGIN:VEVENT
DTSTART;TZID=Asia/Kolkata:20241008T080000
DTEND;TZID=Asia/Kolkata:20241008T130000
DTSTAMP:20260424T174430
CREATED:20241010T062147Z
LAST-MODIFIED:20241010T062147Z
UID:1166-1728374400-1728392400@www.lis.ac.in
SUMMARY:Inter-school Event Participation "Umang" -Grades 9 to 12
DESCRIPTION:
URL:https://www.lis.ac.in/calendar_new/event/inter-school-event-participation-umang-grades-9-to-12/
CATEGORIES:Admin,Student,Teacher
END:VEVENT
BEGIN:VEVENT
DTSTART;TZID=Asia/Kolkata:20241008T100000
DTEND;TZID=Asia/Kolkata:20241008T120000
DTSTAMP:20260424T174430
CREATED:20241010T062420Z
LAST-MODIFIED:20241010T062420Z
UID:1168-1728381600-1728388800@www.lis.ac.in
SUMMARY:CAS-Visit to DLF Shiksha Kendra
DESCRIPTION:
URL:https://www.lis.ac.in/calendar_new/event/cas-visit-to-dlf-shiksha-kendra/
CATEGORIES:Admin,Student,Teacher
END:VEVENT
BEGIN:VEVENT
DTSTART;TZID=Asia/Kolkata:20241009T080000
DTEND;TZID=Asia/Kolkata:20241009T130000
DTSTAMP:20260424T174430
CREATED:20241010T064118Z
LAST-MODIFIED:20241010T064118Z
UID:1184-1728460800-1728478800@www.lis.ac.in
SUMMARY:CAS Summit-Inter-school Competition for Grades 9 to 12
DESCRIPTION:
URL:https://www.lis.ac.in/calendar_new/event/cas-summit-inter-school-competition-for-grades-9-to-12/
CATEGORIES:Admin,Student,Teacher
END:VEVENT
BEGIN:VEVENT
DTSTART;TZID=Asia/Kolkata:20241010T080000
DTEND;TZID=Asia/Kolkata:20241010T090000
DTSTAMP:20260424T174430
CREATED:20240930T085246Z
LAST-MODIFIED:20240930T085246Z
UID:1127-1728547200-1728550800@www.lis.ac.in
SUMMARY:Curiosity: The Key to Lifelong Knowledge
DESCRIPTION:
URL:https://www.lis.ac.in/calendar_new/event/curiosity-the-key-to-lifelong-knowledge/
CATEGORIES:Admin,Student,Teacher
END:VEVENT
BEGIN:VEVENT
DTSTART;TZID=Asia/Kolkata:20241011T080000
DTEND;TZID=Asia/Kolkata:20241011T090000
DTSTAMP:20260424T174430
CREATED:20240930T090924Z
LAST-MODIFIED:20240930T090924Z
UID:1143-1728633600-1728637200@www.lis.ac.in
SUMMARY:Thinking Outside the Box: Creativity and Innovation
DESCRIPTION:
URL:https://www.lis.ac.in/calendar_new/event/thinking-outside-the-box-creativity-and-innovation-2/
CATEGORIES:Admin,Student,Teacher
END:VEVENT
BEGIN:VEVENT
DTSTART;VALUE=DATE:20241012
DTEND;VALUE=DATE:20241013
DTSTAMP:20260424T174430
CREATED:20240618T072848Z
LAST-MODIFIED:20240618T072848Z
UID:932-1728691200-1728777599@www.lis.ac.in
SUMMARY:Dussehra
DESCRIPTION:
URL:https://www.lis.ac.in/calendar_new/event/dussehra-2/
CATEGORIES:Admin,Student,Teacher
END:VEVENT
END:VCALENDAR