BEGIN:VCALENDAR
VERSION:2.0
PRODID:-//LIS Calendar - ECPv6.15.11//NONSGML v1.0//EN
CALSCALE:GREGORIAN
METHOD:PUBLISH
X-WR-CALNAME:LIS Calendar
X-ORIGINAL-URL:https://www.lis.ac.in/calendar_new
X-WR-CALDESC:Events for LIS Calendar
REFRESH-INTERVAL;VALUE=DURATION:PT1H
X-Robots-Tag:noindex
X-PUBLISHED-TTL:PT1H
BEGIN:VTIMEZONE
TZID:Asia/Kolkata
BEGIN:STANDARD
TZOFFSETFROM:+0530
TZOFFSETTO:+0530
TZNAME:IST
DTSTART:20240101T000000
END:STANDARD
END:VTIMEZONE
BEGIN:VEVENT
DTSTART;VALUE=DATE:20260209
DTEND;VALUE=DATE:20260210
DTSTAMP:20260423T184905
CREATED:20260119T084331Z
LAST-MODIFIED:20260119T084331Z
UID:1753-1770595200-1770681599@www.lis.ac.in
SUMMARY:Rich Language Gala
DESCRIPTION:
URL:https://www.lis.ac.in/calendar_new/event/rich-language-gala-2/
CATEGORIES:Admin,Student,Teacher
END:VEVENT
BEGIN:VEVENT
DTSTART;TZID=Asia/Kolkata:20260203T080000
DTEND;TZID=Asia/Kolkata:20260203T090000
DTSTAMP:20260423T184905
CREATED:20260119T084242Z
LAST-MODIFIED:20260119T084242Z
UID:1751-1770105600-1770109200@www.lis.ac.in
SUMMARY:Assembly- Small Choices\, Big Impact
DESCRIPTION:
URL:https://www.lis.ac.in/calendar_new/event/assembly-small-choices-big-impact/
CATEGORIES:Admin,Student,Teacher
END:VEVENT
BEGIN:VEVENT
DTSTART;VALUE=DATE:20260202
DTEND;VALUE=DATE:20260207
DTSTAMP:20260423T184905
CREATED:20250710T093633Z
LAST-MODIFIED:20250710T093633Z
UID:1480-1769990400-1770422399@www.lis.ac.in
SUMMARY:9th LIS Sports Cup
DESCRIPTION:
URL:https://www.lis.ac.in/calendar_new/event/9th-lis-sports-cup/
CATEGORIES:Admin,Student,Teacher
END:VEVENT
BEGIN:VEVENT
DTSTART;TZID=Asia/Kolkata:20260130T080000
DTEND;TZID=Asia/Kolkata:20260130T090000
DTSTAMP:20260423T184905
CREATED:20260119T084918Z
LAST-MODIFIED:20260119T084918Z
UID:1765-1769760000-1769763600@www.lis.ac.in
SUMMARY:Assembly - Peace in Diversity: Strength in Differences (Grades 10 to12)
DESCRIPTION:
URL:https://www.lis.ac.in/calendar_new/event/assembly-peace-in-diversity-strength-in-differences-grades-10-to12/
CATEGORIES:Admin,Student,Teacher
END:VEVENT
BEGIN:VEVENT
DTSTART;VALUE=DATE:20260126
DTEND;VALUE=DATE:20260127
DTSTAMP:20260423T184905
CREATED:20250710T093542Z
LAST-MODIFIED:20250710T093542Z
UID:1478-1769385600-1769471999@www.lis.ac.in
SUMMARY:Republic Day
DESCRIPTION:
URL:https://www.lis.ac.in/calendar_new/event/republic-day-2/
CATEGORIES:Admin,Student,Teacher
END:VEVENT
BEGIN:VEVENT
DTSTART;TZID=Asia/Kolkata:20260122T080000
DTEND;TZID=Asia/Kolkata:20260122T090000
DTSTAMP:20260423T184905
CREATED:20260119T083812Z
LAST-MODIFIED:20260119T083812Z
UID:1747-1769068800-1769072400@www.lis.ac.in
SUMMARY:Republic Day Celebration
DESCRIPTION:
URL:https://www.lis.ac.in/calendar_new/event/republic-day-celebration/
CATEGORIES:Admin,Student,Teacher
END:VEVENT
BEGIN:VEVENT
DTSTART;TZID=Asia/Kolkata:20260120T080000
DTEND;TZID=Asia/Kolkata:20260120T083000
DTSTAMP:20260423T184905
CREATED:20260119T083717Z
LAST-MODIFIED:20260119T083717Z
UID:1745-1768896000-1768897800@www.lis.ac.in
SUMMARY:Assembly on Wellbeing
DESCRIPTION:
URL:https://www.lis.ac.in/calendar_new/event/assembly-on-wellbeing/
CATEGORIES:Admin,Student,Teacher
END:VEVENT
BEGIN:VEVENT
DTSTART;TZID=Asia/Kolkata:20260119T080000
DTEND;TZID=Asia/Kolkata:20260119T090000
DTSTAMP:20260423T184905
CREATED:20260119T084048Z
LAST-MODIFIED:20260119T084048Z
UID:1749-1768809600-1768813200@www.lis.ac.in
SUMMARY:Assembly-"Peace in Diversity: Strength in Differences"
DESCRIPTION:
URL:https://www.lis.ac.in/calendar_new/event/assembly-peace-in-diversity-strength-in-differences/
CATEGORIES:Admin,Student,Teacher
END:VEVENT
BEGIN:VEVENT
DTSTART;VALUE=DATE:20260119
DTEND;VALUE=DATE:20260123
DTSTAMP:20260423T184905
CREATED:20250710T093506Z
LAST-MODIFIED:20250710T093506Z
UID:1476-1768780800-1769126399@www.lis.ac.in
SUMMARY:Coffee Mornings-Middle & Senior School
DESCRIPTION:
URL:https://www.lis.ac.in/calendar_new/event/coffee-mornings-middle-senior-school/
CATEGORIES:Admin,Student,Teacher
END:VEVENT
BEGIN:VEVENT
DTSTART;VALUE=DATE:20260119
DTEND;VALUE=DATE:20260124
DTSTAMP:20260423T184905
CREATED:20250710T093347Z
LAST-MODIFIED:20250710T093347Z
UID:1474-1768780800-1769212799@www.lis.ac.in
SUMMARY:Parent PYP Sessions
DESCRIPTION:
URL:https://www.lis.ac.in/calendar_new/event/parent-pyp-sessions-2/
CATEGORIES:Admin,Student,Teacher
END:VEVENT
BEGIN:VEVENT
DTSTART;TZID=Asia/Kolkata:20260116T080000
DTEND;TZID=Asia/Kolkata:20260116T090000
DTSTAMP:20260423T184905
CREATED:20260119T084749Z
LAST-MODIFIED:20260119T084749Z
UID:1763-1768550400-1768554000@www.lis.ac.in
SUMMARY:Assembly - Wellbeing
DESCRIPTION:
URL:https://www.lis.ac.in/calendar_new/event/assembly-wellbeing/
CATEGORIES:Admin,Student,Teacher
END:VEVENT
BEGIN:VEVENT
DTSTART;VALUE=DATE:20260115
DTEND;VALUE=DATE:20260116
DTSTAMP:20260423T184905
CREATED:20250710T093256Z
LAST-MODIFIED:20250710T093256Z
UID:1472-1768435200-1768521599@www.lis.ac.in
SUMMARY:Quarter 3/Semester 2 begins
DESCRIPTION:
URL:https://www.lis.ac.in/calendar_new/event/quarter-3-semester-2-begins/
CATEGORIES:Admin,Student,Teacher
END:VEVENT
BEGIN:VEVENT
DTSTART;VALUE=DATE:20260114
DTEND;VALUE=DATE:20260115
DTSTAMP:20260423T184905
CREATED:20250710T092947Z
LAST-MODIFIED:20250710T092947Z
UID:1466-1768348800-1768435199@www.lis.ac.in
SUMMARY:New Parent Orientation
DESCRIPTION:
URL:https://www.lis.ac.in/calendar_new/event/new-parent-orientation-3/
CATEGORIES:Admin,Student
END:VEVENT
BEGIN:VEVENT
DTSTART;VALUE=DATE:20260112
DTEND;VALUE=DATE:20260115
DTSTAMP:20260423T184905
CREATED:20250710T093147Z
LAST-MODIFIED:20250710T093147Z
UID:1470-1768176000-1768435199@www.lis.ac.in
SUMMARY:INSET
DESCRIPTION:
URL:https://www.lis.ac.in/calendar_new/event/inset-2/
CATEGORIES:Admin,Student,Teacher
END:VEVENT
BEGIN:VEVENT
DTSTART;VALUE=DATE:20260108
DTEND;VALUE=DATE:20260115
DTSTAMP:20260423T184905
CREATED:20250710T092846Z
LAST-MODIFIED:20250710T092846Z
UID:1464-1767830400-1768435199@www.lis.ac.in
SUMMARY:Extra Classes for Grades 10 & 12
DESCRIPTION:
URL:https://www.lis.ac.in/calendar_new/event/extra-classes-for-grades-10-12/
CATEGORIES:Admin,Student,Teacher
END:VEVENT
BEGIN:VEVENT
DTSTART;VALUE=DATE:20251225
DTEND;VALUE=DATE:20251226
DTSTAMP:20260423T184905
CREATED:20250710T091402Z
LAST-MODIFIED:20250710T091402Z
UID:1459-1766620800-1766707199@www.lis.ac.in
SUMMARY:Christmas
DESCRIPTION:
URL:https://www.lis.ac.in/calendar_new/event/christmas-2/
CATEGORIES:Admin,Student,Teacher
END:VEVENT
BEGIN:VEVENT
DTSTART;VALUE=DATE:20251222
DTEND;VALUE=DATE:20260115
DTSTAMP:20260423T184905
CREATED:20250710T091447Z
LAST-MODIFIED:20250710T091447Z
UID:1461-1766361600-1768435199@www.lis.ac.in
SUMMARY:Winter Break
DESCRIPTION:
URL:https://www.lis.ac.in/calendar_new/event/winter-break-2/
CATEGORIES:Admin,Student,Teacher
END:VEVENT
BEGIN:VEVENT
DTSTART;VALUE=DATE:20251220
DTEND;VALUE=DATE:20251221
DTSTAMP:20260423T184905
CREATED:20250710T091333Z
LAST-MODIFIED:20250710T091333Z
UID:1457-1766188800-1766275199@www.lis.ac.in
SUMMARY:Christmas Carnival
DESCRIPTION:
URL:https://www.lis.ac.in/calendar_new/event/christmas-carnival-3/
CATEGORIES:Admin,Student,Teacher
END:VEVENT
BEGIN:VEVENT
DTSTART;VALUE=DATE:20251220
DTEND;VALUE=DATE:20251221
DTSTAMP:20260423T184905
CREATED:20250710T091307Z
LAST-MODIFIED:20250710T091307Z
UID:1455-1766188800-1766275199@www.lis.ac.in
SUMMARY:PTM for Grades 1 to 10
DESCRIPTION:
URL:https://www.lis.ac.in/calendar_new/event/ptm-for-grades-1-to-10-2/
CATEGORIES:Admin,Student,Teacher
END:VEVENT
BEGIN:VEVENT
DTSTART;VALUE=DATE:20251219
DTEND;VALUE=DATE:20251220
DTSTAMP:20260423T184905
CREATED:20250710T091227Z
LAST-MODIFIED:20250710T091227Z
UID:1453-1766102400-1766188799@www.lis.ac.in
SUMMARY:PTM for Early Years and Grade 11 & 12
DESCRIPTION:
URL:https://www.lis.ac.in/calendar_new/event/ptm-for-early-years-and-grade-11-12/
CATEGORIES:Admin,Teacher
END:VEVENT
BEGIN:VEVENT
DTSTART;VALUE=DATE:20251219
DTEND;VALUE=DATE:20251220
DTSTAMP:20260423T184905
CREATED:20250710T090919Z
LAST-MODIFIED:20250710T090919Z
UID:1451-1766102400-1766188799@www.lis.ac.in
SUMMARY:Little ABLE Concert 2
DESCRIPTION:
URL:https://www.lis.ac.in/calendar_new/event/little-able-concert-2-2/
CATEGORIES:Admin,Student,Teacher
END:VEVENT
BEGIN:VEVENT
DTSTART;VALUE=DATE:20251215
DTEND;VALUE=DATE:20251217
DTSTAMP:20260423T184905
CREATED:20250710T090835Z
LAST-MODIFIED:20250710T090835Z
UID:1449-1765756800-1765929599@www.lis.ac.in
SUMMARY:ABLE Exhibitions
DESCRIPTION:
URL:https://www.lis.ac.in/calendar_new/event/able-exhibitions-2/
CATEGORIES:Admin,Student,Teacher
END:VEVENT
BEGIN:VEVENT
DTSTART;VALUE=DATE:20251208
DTEND;VALUE=DATE:20251213
DTSTAMP:20260423T184905
CREATED:20250710T090742Z
LAST-MODIFIED:20250710T090742Z
UID:1447-1765152000-1765583999@www.lis.ac.in
SUMMARY:PYP Semester-end Assessments
DESCRIPTION:
URL:https://www.lis.ac.in/calendar_new/event/pyp-semester-end-assessments/
CATEGORIES:Admin,Student,Teacher
END:VEVENT
BEGIN:VEVENT
DTSTART;VALUE=DATE:20251206
DTEND;VALUE=DATE:20251207
DTSTAMP:20260423T184905
CREATED:20250710T090551Z
LAST-MODIFIED:20250710T090551Z
UID:1443-1764979200-1765065599@www.lis.ac.in
SUMMARY:SAT Exam
DESCRIPTION:
URL:https://www.lis.ac.in/calendar_new/event/sat-exam-2/
CATEGORIES:Admin,Student,Teacher
END:VEVENT
BEGIN:VEVENT
DTSTART;VALUE=DATE:20251201
DTEND;VALUE=DATE:20251213
DTSTAMP:20260423T184905
CREATED:20250710T090700Z
LAST-MODIFIED:20250710T090700Z
UID:1445-1764547200-1765583999@www.lis.ac.in
SUMMARY:Half-Yearly and Pre-mock Examinations
DESCRIPTION:
URL:https://www.lis.ac.in/calendar_new/event/half-yearly-and-pre-mock-examinations/
CATEGORIES:Admin,Student,Teacher
END:VEVENT
BEGIN:VEVENT
DTSTART;TZID=Asia/Kolkata:20251128T080000
DTEND;TZID=Asia/Kolkata:20251128T093000
DTSTAMP:20260423T184905
CREATED:20250927T153802Z
LAST-MODIFIED:20250927T153802Z
UID:1718-1764316800-1764322200@www.lis.ac.in
SUMMARY:Assembly Grades 10 to 12: Session by School Counsellor
DESCRIPTION:
URL:https://www.lis.ac.in/calendar_new/event/assembly-grades-10-to-12-session-by-school-counsellor/
CATEGORIES:Admin,Student,Teacher
END:VEVENT
BEGIN:VEVENT
DTSTART;VALUE=DATE:20251128
DTEND;VALUE=DATE:20251129
DTSTAMP:20260423T184905
CREATED:20251110T142941Z
LAST-MODIFIED:20251110T142941Z
UID:1741-1764288000-1764374399@www.lis.ac.in
SUMMARY:Gymnastics Competition for Grade 4 and 5
DESCRIPTION:
URL:https://www.lis.ac.in/calendar_new/event/gymnastics-competition-for-grade-4-and-5/
CATEGORIES:Admin,Student,Teacher
END:VEVENT
BEGIN:VEVENT
DTSTART;VALUE=DATE:20251127
DTEND;VALUE=DATE:20251128
DTSTAMP:20260423T184905
CREATED:20251110T142836Z
LAST-MODIFIED:20251110T142836Z
UID:1739-1764201600-1764287999@www.lis.ac.in
SUMMARY:Mime Competition for Grades 3-5
DESCRIPTION:
URL:https://www.lis.ac.in/calendar_new/event/mime-competition-for-grades-3-5/
CATEGORIES:Admin,Student,Teacher
END:VEVENT
BEGIN:VEVENT
DTSTART;VALUE=DATE:20251127
DTEND;VALUE=DATE:20251128
DTSTAMP:20260423T184905
CREATED:20251110T142656Z
LAST-MODIFIED:20251110T142656Z
UID:1737-1764201600-1764287999@www.lis.ac.in
SUMMARY:Gymnastics Competition for Grade 1 and 2
DESCRIPTION:
URL:https://www.lis.ac.in/calendar_new/event/gymnastics-competition-for-grade-1-and-2/
CATEGORIES:Admin,Student,Teacher
END:VEVENT
BEGIN:VEVENT
DTSTART;VALUE=DATE:20251126
DTEND;VALUE=DATE:20251127
DTSTAMP:20260423T184905
CREATED:20250710T090515Z
LAST-MODIFIED:20250710T090515Z
UID:1441-1764115200-1764201599@www.lis.ac.in
SUMMARY:Grade 7 Production
DESCRIPTION:
URL:https://www.lis.ac.in/calendar_new/event/grade-7-production-2/
CATEGORIES:Admin,Student,Teacher
END:VEVENT
END:VCALENDAR