BEGIN:VCALENDAR
VERSION:2.0
PRODID:-//LIS Calendar - ECPv6.15.11//NONSGML v1.0//EN
CALSCALE:GREGORIAN
METHOD:PUBLISH
X-WR-CALNAME:LIS Calendar
X-ORIGINAL-URL:https://www.lis.ac.in/calendar_new
X-WR-CALDESC:Events for LIS Calendar
REFRESH-INTERVAL;VALUE=DURATION:PT1H
X-Robots-Tag:noindex
X-PUBLISHED-TTL:PT1H
BEGIN:VTIMEZONE
TZID:Asia/Kolkata
BEGIN:STANDARD
TZOFFSETFROM:+0530
TZOFFSETTO:+0530
TZNAME:IST
DTSTART:20250101T000000
END:STANDARD
END:VTIMEZONE
BEGIN:VEVENT
DTSTART;VALUE=DATE:20260604
DTEND;VALUE=DATE:20260605
DTSTAMP:20260420T112058
CREATED:20250710T103204Z
LAST-MODIFIED:20250710T103204Z
UID:1559-1780531200-1780617599@www.lis.ac.in
SUMMARY:PTM for Early Years and Grade 11 & 12
DESCRIPTION:
URL:https://www.lis.ac.in/calendar_new/event/ptm-for-early-years-and-grade-11-12-2/
CATEGORIES:Admin,Student,Teacher
END:VEVENT
BEGIN:VEVENT
DTSTART;VALUE=DATE:20260604
DTEND;VALUE=DATE:20260605
DTSTAMP:20260420T112058
CREATED:20250710T103723Z
LAST-MODIFIED:20250710T103723Z
UID:1565-1780531200-1780617599@www.lis.ac.in
SUMMARY:Little ABLE Concert 4
DESCRIPTION:
URL:https://www.lis.ac.in/calendar_new/event/little-able-concert-4-2/
CATEGORIES:Admin,Student,Teacher
END:VEVENT
END:VCALENDAR